BEGIN:VCALENDAR
VERSION:2.0
PRODID:-//Christ Church Anglican - ECPv6.15.20//NONSGML v1.0//EN
CALSCALE:GREGORIAN
METHOD:PUBLISH
X-WR-CALNAME:Christ Church Anglican
X-ORIGINAL-URL:https://christchurchcos.com
X-WR-CALDESC:Events for Christ Church Anglican
REFRESH-INTERVAL;VALUE=DURATION:PT1H
X-Robots-Tag:noindex
X-PUBLISHED-TTL:PT1H
BEGIN:VTIMEZONE
TZID:America/Denver
BEGIN:DAYLIGHT
TZOFFSETFROM:-0700
TZOFFSETTO:-0600
TZNAME:MDT
DTSTART:20260308T090000
END:DAYLIGHT
BEGIN:STANDARD
TZOFFSETFROM:-0600
TZOFFSETTO:-0700
TZNAME:MST
DTSTART:20261101T080000
END:STANDARD
BEGIN:DAYLIGHT
TZOFFSETFROM:-0700
TZOFFSETTO:-0600
TZNAME:MDT
DTSTART:20270314T090000
END:DAYLIGHT
BEGIN:STANDARD
TZOFFSETFROM:-0600
TZOFFSETTO:-0700
TZNAME:MST
DTSTART:20271107T080000
END:STANDARD
BEGIN:DAYLIGHT
TZOFFSETFROM:-0700
TZOFFSETTO:-0600
TZNAME:MDT
DTSTART:20280312T090000
END:DAYLIGHT
BEGIN:STANDARD
TZOFFSETFROM:-0600
TZOFFSETTO:-0700
TZNAME:MST
DTSTART:20281105T080000
END:STANDARD
END:VTIMEZONE
BEGIN:VEVENT
DTSTART;TZID=America/Denver:20270823T190000
DTEND;TZID=America/Denver:20270823T210000
DTSTAMP:20260419T170116
CREATED:20251103T000757Z
LAST-MODIFIED:20260315T011954Z
UID:10004272-1819047600-1819054800@christchurchcos.com
SUMMARY:Ladies' Study and Fellowship
DESCRIPTION:Join us for a no-prep study of Through New Eyes by James B. Jordan\, snacks\, and fellowship. \nContact vicar@christchurchcos.com for location and directions.
URL:https://christchurchcos.com/calendar/ladies-study-and-fellowship-2-2-2/2027-08-23/
LOCATION:CO
ATTACH;FMTTYPE=image/jpeg:https://christchurchcos.com/wp-content/uploads/2025/05/pexels-emily-252615-768125-scaled.jpg
END:VEVENT
BEGIN:VEVENT
DTSTART;TZID=America/Denver:20270825T183000
DTEND;TZID=America/Denver:20270825T200000
DTSTAMP:20260419T170116
CREATED:20251103T000244Z
LAST-MODIFIED:20260407T135654Z
UID:10003900-1819218600-1819224000@christchurchcos.com
SUMMARY:Wednesday Evensong/Children's Choir Practice
DESCRIPTION:
URL:https://christchurchcos.com/calendar/evensong-and-study-2-2-4/2027-08-25/
LOCATION:Christ Church Anglican\, Christ Church Anglican\, 625 1st Street\, Colorado Springs\, CO\, 80907\, United States
ATTACH;FMTTYPE=image/jpeg:https://christchurchcos.com/wp-content/uploads/2025/04/DSC_06331.jpeg
END:VEVENT
BEGIN:VEVENT
DTSTART;TZID=America/Denver:20270828T073000
DTEND;TZID=America/Denver:20270828T090000
DTSTAMP:20260419T170116
CREATED:20260313T214323Z
LAST-MODIFIED:20260407T135826Z
UID:10007751-1819438200-1819443600@christchurchcos.com
SUMMARY:Life and Liturgy
DESCRIPTION:Join us as we read through and discuss Letters to a Diminished Church by Dorothy L. Sayers at Boonzaaijer’s Dutch Bakery.
URL:https://christchurchcos.com/calendar/mens-fellowship-and-study-2-2-2/2027-08-28/
LOCATION:Boonzaaijer’s Dutch Bakery\, Boonzaaijer's Dutch Bakery\, 610 East Fillmore Street\, Colorado Springs\, CO\, 80907\, United States
ATTACH;FMTTYPE=image/jpeg:https://christchurchcos.com/wp-content/uploads/2025/05/pexels-caio-46274-scaled.jpg
END:VEVENT
BEGIN:VEVENT
DTSTART;TZID=America/Denver:20270828T073000
DTEND;TZID=America/Denver:20270828T090000
DTSTAMP:20260419T170116
CREATED:20260407T135747Z
LAST-MODIFIED:20260407T135748Z
UID:10007462-1819438200-1819443600@christchurchcos.com
SUMMARY:Life and Liturgy
DESCRIPTION:Join us as we read through and discuss Letters to a Diminished Church by Dorothy L. Sayers at Boonzaaijer’s Dutch Bakery.
URL:https://christchurchcos.com/calendar/mens-fellowship-and-study-2-2-2-2/2027-08-28/
LOCATION:Boonzaaijer’s Dutch Bakery\, Boonzaaijer's Dutch Bakery\, 610 East Fillmore Street\, Colorado Springs\, CO\, 80907\, United States
ATTACH;FMTTYPE=image/jpeg:https://christchurchcos.com/wp-content/uploads/2025/05/pexels-caio-46274-scaled.jpg
END:VEVENT
BEGIN:VEVENT
DTSTART;TZID=America/Denver:20270829T100000
DTEND;TZID=America/Denver:20270829T110000
DTSTAMP:20260419T170116
CREATED:20251031T185629Z
LAST-MODIFIED:20251102T093109Z
UID:10007247-1819533600-1819537200@christchurchcos.com
SUMMARY:Holy Communion
DESCRIPTION:Morning Worship with a Eucharist Service is held every Sunday morning at 10:00 AM with sermon and hymns. Children are welcome in the service\, but there are also quiet spaces available for those who may need extra attention.
URL:https://christchurchcos.com/calendar/holy-communion-4/2027-08-29/
LOCATION:Christ Church Anglican\, Christ Church Anglican\, 625 1st Street\, Colorado Springs\, CO\, 80907\, United States
ATTACH;FMTTYPE=image/jpeg:https://christchurchcos.com/wp-content/uploads/2025/04/holycommunion.jpg
END:VEVENT
BEGIN:VEVENT
DTSTART;TZID=America/Denver:20270829T113000
DTEND;TZID=America/Denver:20270829T123000
DTSTAMP:20260419T170116
CREATED:20251103T001928Z
LAST-MODIFIED:20251103T001929Z
UID:10004723-1819539000-1819542600@christchurchcos.com
SUMMARY:Catechesis
DESCRIPTION:Adult and children’s classes will follow coffee hour.
URL:https://christchurchcos.com/calendar/catechesis-15-2-2/2027-08-29/
LOCATION:Christ Church Anglican\, Christ Church Anglican\, 625 1st Street\, Colorado Springs\, CO\, 80907\, United States
ATTACH;FMTTYPE=image/jpeg:https://christchurchcos.com/wp-content/uploads/2025/04/001.jpg
END:VEVENT
BEGIN:VEVENT
DTSTART;TZID=America/Denver:20270829T173000
DTEND;TZID=America/Denver:20270829T210000
DTSTAMP:20260419T170116
CREATED:20251103T000142Z
LAST-MODIFIED:20251103T000142Z
UID:10003106-1819560600-1819573200@christchurchcos.com
SUMMARY:Potluck and Evensong
DESCRIPTION:A form of Evensong is held at 5:30 PM on Sunday evenings at one of our members’ homes. Please contact vicar@christchurchcos.com for more information. The service itself begins at 6:00 PM following the 5:30 PM fellowship meal. We close the evening with a time of discussion and study. All interested are welcome. This is a great opportunity to get to know Anglicanism and ask questions for those not ready to join with us in a worship service – or just join us for the fellowship.
URL:https://christchurchcos.com/calendar/potluck-and-evensong-5/2027-08-29/
LOCATION:CO
ATTACH;FMTTYPE=image/jpeg:https://christchurchcos.com/wp-content/uploads/2025/04/evansong.jpg
END:VEVENT
BEGIN:VEVENT
DTSTART;TZID=America/Denver:20270901T183000
DTEND;TZID=America/Denver:20270901T200000
DTSTAMP:20260419T170116
CREATED:20251103T000244Z
LAST-MODIFIED:20260407T135654Z
UID:10003901-1819823400-1819828800@christchurchcos.com
SUMMARY:Wednesday Evensong/Children's Choir Practice
DESCRIPTION:
URL:https://christchurchcos.com/calendar/evensong-and-study-2-2-4/2027-09-01/
LOCATION:Christ Church Anglican\, Christ Church Anglican\, 625 1st Street\, Colorado Springs\, CO\, 80907\, United States
ATTACH;FMTTYPE=image/jpeg:https://christchurchcos.com/wp-content/uploads/2025/04/DSC_06331.jpeg
END:VEVENT
BEGIN:VEVENT
DTSTART;TZID=America/Denver:20270905T100000
DTEND;TZID=America/Denver:20270905T110000
DTSTAMP:20260419T170116
CREATED:20251031T185629Z
LAST-MODIFIED:20251102T093109Z
UID:10007248-1820138400-1820142000@christchurchcos.com
SUMMARY:Holy Communion
DESCRIPTION:Morning Worship with a Eucharist Service is held every Sunday morning at 10:00 AM with sermon and hymns. Children are welcome in the service\, but there are also quiet spaces available for those who may need extra attention.
URL:https://christchurchcos.com/calendar/holy-communion-4/2027-09-05/
LOCATION:Christ Church Anglican\, Christ Church Anglican\, 625 1st Street\, Colorado Springs\, CO\, 80907\, United States
ATTACH;FMTTYPE=image/jpeg:https://christchurchcos.com/wp-content/uploads/2025/04/holycommunion.jpg
END:VEVENT
BEGIN:VEVENT
DTSTART;TZID=America/Denver:20270905T113000
DTEND;TZID=America/Denver:20270905T123000
DTSTAMP:20260419T170116
CREATED:20251103T001928Z
LAST-MODIFIED:20251103T001929Z
UID:10004724-1820143800-1820147400@christchurchcos.com
SUMMARY:Catechesis
DESCRIPTION:Adult and children’s classes will follow coffee hour.
URL:https://christchurchcos.com/calendar/catechesis-15-2-2/2027-09-05/
LOCATION:Christ Church Anglican\, Christ Church Anglican\, 625 1st Street\, Colorado Springs\, CO\, 80907\, United States
ATTACH;FMTTYPE=image/jpeg:https://christchurchcos.com/wp-content/uploads/2025/04/001.jpg
END:VEVENT
BEGIN:VEVENT
DTSTART;TZID=America/Denver:20270905T173000
DTEND;TZID=America/Denver:20270905T210000
DTSTAMP:20260419T170116
CREATED:20251103T000142Z
LAST-MODIFIED:20251103T000142Z
UID:10003107-1820165400-1820178000@christchurchcos.com
SUMMARY:Potluck and Evensong
DESCRIPTION:A form of Evensong is held at 5:30 PM on Sunday evenings at one of our members’ homes. Please contact vicar@christchurchcos.com for more information. The service itself begins at 6:00 PM following the 5:30 PM fellowship meal. We close the evening with a time of discussion and study. All interested are welcome. This is a great opportunity to get to know Anglicanism and ask questions for those not ready to join with us in a worship service – or just join us for the fellowship.
URL:https://christchurchcos.com/calendar/potluck-and-evensong-5/2027-09-05/
LOCATION:CO
ATTACH;FMTTYPE=image/jpeg:https://christchurchcos.com/wp-content/uploads/2025/04/evansong.jpg
END:VEVENT
BEGIN:VEVENT
DTSTART;TZID=America/Denver:20270908T183000
DTEND;TZID=America/Denver:20270908T200000
DTSTAMP:20260419T170116
CREATED:20251103T000244Z
LAST-MODIFIED:20260407T135654Z
UID:10003902-1820428200-1820433600@christchurchcos.com
SUMMARY:Wednesday Evensong/Children's Choir Practice
DESCRIPTION:
URL:https://christchurchcos.com/calendar/evensong-and-study-2-2-4/2027-09-08/
LOCATION:Christ Church Anglican\, Christ Church Anglican\, 625 1st Street\, Colorado Springs\, CO\, 80907\, United States
ATTACH;FMTTYPE=image/jpeg:https://christchurchcos.com/wp-content/uploads/2025/04/DSC_06331.jpeg
END:VEVENT
BEGIN:VEVENT
DTSTART;TZID=America/Denver:20270911T073000
DTEND;TZID=America/Denver:20270911T090000
DTSTAMP:20260419T170116
CREATED:20260313T214323Z
LAST-MODIFIED:20260407T135826Z
UID:10007752-1820647800-1820653200@christchurchcos.com
SUMMARY:Life and Liturgy
DESCRIPTION:Join us as we read through and discuss Letters to a Diminished Church by Dorothy L. Sayers at Boonzaaijer’s Dutch Bakery.
URL:https://christchurchcos.com/calendar/mens-fellowship-and-study-2-2-2/2027-09-11/
LOCATION:Boonzaaijer’s Dutch Bakery\, Boonzaaijer's Dutch Bakery\, 610 East Fillmore Street\, Colorado Springs\, CO\, 80907\, United States
ATTACH;FMTTYPE=image/jpeg:https://christchurchcos.com/wp-content/uploads/2025/05/pexels-caio-46274-scaled.jpg
END:VEVENT
BEGIN:VEVENT
DTSTART;TZID=America/Denver:20270911T073000
DTEND;TZID=America/Denver:20270911T090000
DTSTAMP:20260419T170116
CREATED:20260407T135747Z
LAST-MODIFIED:20260407T135748Z
UID:10007463-1820647800-1820653200@christchurchcos.com
SUMMARY:Life and Liturgy
DESCRIPTION:Join us as we read through and discuss Letters to a Diminished Church by Dorothy L. Sayers at Boonzaaijer’s Dutch Bakery.
URL:https://christchurchcos.com/calendar/mens-fellowship-and-study-2-2-2-2/2027-09-11/
LOCATION:Boonzaaijer’s Dutch Bakery\, Boonzaaijer's Dutch Bakery\, 610 East Fillmore Street\, Colorado Springs\, CO\, 80907\, United States
ATTACH;FMTTYPE=image/jpeg:https://christchurchcos.com/wp-content/uploads/2025/05/pexels-caio-46274-scaled.jpg
END:VEVENT
BEGIN:VEVENT
DTSTART;TZID=America/Denver:20270912T100000
DTEND;TZID=America/Denver:20270912T110000
DTSTAMP:20260419T170116
CREATED:20251031T185629Z
LAST-MODIFIED:20251102T093109Z
UID:10007249-1820743200-1820746800@christchurchcos.com
SUMMARY:Holy Communion
DESCRIPTION:Morning Worship with a Eucharist Service is held every Sunday morning at 10:00 AM with sermon and hymns. Children are welcome in the service\, but there are also quiet spaces available for those who may need extra attention.
URL:https://christchurchcos.com/calendar/holy-communion-4/2027-09-12/
LOCATION:Christ Church Anglican\, Christ Church Anglican\, 625 1st Street\, Colorado Springs\, CO\, 80907\, United States
ATTACH;FMTTYPE=image/jpeg:https://christchurchcos.com/wp-content/uploads/2025/04/holycommunion.jpg
END:VEVENT
BEGIN:VEVENT
DTSTART;TZID=America/Denver:20270912T113000
DTEND;TZID=America/Denver:20270912T123000
DTSTAMP:20260419T170116
CREATED:20251103T001928Z
LAST-MODIFIED:20251103T001929Z
UID:10004725-1820748600-1820752200@christchurchcos.com
SUMMARY:Catechesis
DESCRIPTION:Adult and children’s classes will follow coffee hour.
URL:https://christchurchcos.com/calendar/catechesis-15-2-2/2027-09-12/
LOCATION:Christ Church Anglican\, Christ Church Anglican\, 625 1st Street\, Colorado Springs\, CO\, 80907\, United States
ATTACH;FMTTYPE=image/jpeg:https://christchurchcos.com/wp-content/uploads/2025/04/001.jpg
END:VEVENT
BEGIN:VEVENT
DTSTART;TZID=America/Denver:20270912T173000
DTEND;TZID=America/Denver:20270912T210000
DTSTAMP:20260419T170116
CREATED:20251103T000142Z
LAST-MODIFIED:20251103T000142Z
UID:10003108-1820770200-1820782800@christchurchcos.com
SUMMARY:Potluck and Evensong
DESCRIPTION:A form of Evensong is held at 5:30 PM on Sunday evenings at one of our members’ homes. Please contact vicar@christchurchcos.com for more information. The service itself begins at 6:00 PM following the 5:30 PM fellowship meal. We close the evening with a time of discussion and study. All interested are welcome. This is a great opportunity to get to know Anglicanism and ask questions for those not ready to join with us in a worship service – or just join us for the fellowship.
URL:https://christchurchcos.com/calendar/potluck-and-evensong-5/2027-09-12/
LOCATION:CO
ATTACH;FMTTYPE=image/jpeg:https://christchurchcos.com/wp-content/uploads/2025/04/evansong.jpg
END:VEVENT
BEGIN:VEVENT
DTSTART;TZID=America/Denver:20270913T190000
DTEND;TZID=America/Denver:20270913T210000
DTSTAMP:20260419T170116
CREATED:20251103T000757Z
LAST-MODIFIED:20260315T011954Z
UID:10004274-1820862000-1820869200@christchurchcos.com
SUMMARY:Ladies' Study and Fellowship
DESCRIPTION:Join us for a no-prep study of Through New Eyes by James B. Jordan\, snacks\, and fellowship. \nContact vicar@christchurchcos.com for location and directions.
URL:https://christchurchcos.com/calendar/ladies-study-and-fellowship-2-2-2/2027-09-13/
LOCATION:CO
ATTACH;FMTTYPE=image/jpeg:https://christchurchcos.com/wp-content/uploads/2025/05/pexels-emily-252615-768125-scaled.jpg
END:VEVENT
BEGIN:VEVENT
DTSTART;TZID=America/Denver:20270915T183000
DTEND;TZID=America/Denver:20270915T200000
DTSTAMP:20260419T170116
CREATED:20251103T000244Z
LAST-MODIFIED:20260407T135654Z
UID:10003903-1821033000-1821038400@christchurchcos.com
SUMMARY:Wednesday Evensong/Children's Choir Practice
DESCRIPTION:
URL:https://christchurchcos.com/calendar/evensong-and-study-2-2-4/2027-09-15/
LOCATION:Christ Church Anglican\, Christ Church Anglican\, 625 1st Street\, Colorado Springs\, CO\, 80907\, United States
ATTACH;FMTTYPE=image/jpeg:https://christchurchcos.com/wp-content/uploads/2025/04/DSC_06331.jpeg
END:VEVENT
BEGIN:VEVENT
DTSTART;TZID=America/Denver:20270919T100000
DTEND;TZID=America/Denver:20270919T110000
DTSTAMP:20260419T170116
CREATED:20251031T185629Z
LAST-MODIFIED:20251102T093109Z
UID:10007250-1821348000-1821351600@christchurchcos.com
SUMMARY:Holy Communion
DESCRIPTION:Morning Worship with a Eucharist Service is held every Sunday morning at 10:00 AM with sermon and hymns. Children are welcome in the service\, but there are also quiet spaces available for those who may need extra attention.
URL:https://christchurchcos.com/calendar/holy-communion-4/2027-09-19/
LOCATION:Christ Church Anglican\, Christ Church Anglican\, 625 1st Street\, Colorado Springs\, CO\, 80907\, United States
ATTACH;FMTTYPE=image/jpeg:https://christchurchcos.com/wp-content/uploads/2025/04/holycommunion.jpg
END:VEVENT
BEGIN:VEVENT
DTSTART;TZID=America/Denver:20270919T113000
DTEND;TZID=America/Denver:20270919T123000
DTSTAMP:20260419T170116
CREATED:20251103T001928Z
LAST-MODIFIED:20251103T001929Z
UID:10004726-1821353400-1821357000@christchurchcos.com
SUMMARY:Catechesis
DESCRIPTION:Adult and children’s classes will follow coffee hour.
URL:https://christchurchcos.com/calendar/catechesis-15-2-2/2027-09-19/
LOCATION:Christ Church Anglican\, Christ Church Anglican\, 625 1st Street\, Colorado Springs\, CO\, 80907\, United States
ATTACH;FMTTYPE=image/jpeg:https://christchurchcos.com/wp-content/uploads/2025/04/001.jpg
END:VEVENT
BEGIN:VEVENT
DTSTART;TZID=America/Denver:20270919T173000
DTEND;TZID=America/Denver:20270919T210000
DTSTAMP:20260419T170116
CREATED:20251103T000142Z
LAST-MODIFIED:20251103T000142Z
UID:10003109-1821375000-1821387600@christchurchcos.com
SUMMARY:Potluck and Evensong
DESCRIPTION:A form of Evensong is held at 5:30 PM on Sunday evenings at one of our members’ homes. Please contact vicar@christchurchcos.com for more information. The service itself begins at 6:00 PM following the 5:30 PM fellowship meal. We close the evening with a time of discussion and study. All interested are welcome. This is a great opportunity to get to know Anglicanism and ask questions for those not ready to join with us in a worship service – or just join us for the fellowship.
URL:https://christchurchcos.com/calendar/potluck-and-evensong-5/2027-09-19/
LOCATION:CO
ATTACH;FMTTYPE=image/jpeg:https://christchurchcos.com/wp-content/uploads/2025/04/evansong.jpg
END:VEVENT
BEGIN:VEVENT
DTSTART;TZID=America/Denver:20270922T183000
DTEND;TZID=America/Denver:20270922T200000
DTSTAMP:20260419T170116
CREATED:20251103T000244Z
LAST-MODIFIED:20260407T135654Z
UID:10003904-1821637800-1821643200@christchurchcos.com
SUMMARY:Wednesday Evensong/Children's Choir Practice
DESCRIPTION:
URL:https://christchurchcos.com/calendar/evensong-and-study-2-2-4/2027-09-22/
LOCATION:Christ Church Anglican\, Christ Church Anglican\, 625 1st Street\, Colorado Springs\, CO\, 80907\, United States
ATTACH;FMTTYPE=image/jpeg:https://christchurchcos.com/wp-content/uploads/2025/04/DSC_06331.jpeg
END:VEVENT
BEGIN:VEVENT
DTSTART;TZID=America/Denver:20270925T073000
DTEND;TZID=America/Denver:20270925T090000
DTSTAMP:20260419T170116
CREATED:20260313T214323Z
LAST-MODIFIED:20260407T135826Z
UID:10007753-1821857400-1821862800@christchurchcos.com
SUMMARY:Life and Liturgy
DESCRIPTION:Join us as we read through and discuss Letters to a Diminished Church by Dorothy L. Sayers at Boonzaaijer’s Dutch Bakery.
URL:https://christchurchcos.com/calendar/mens-fellowship-and-study-2-2-2/2027-09-25/
LOCATION:Boonzaaijer’s Dutch Bakery\, Boonzaaijer's Dutch Bakery\, 610 East Fillmore Street\, Colorado Springs\, CO\, 80907\, United States
ATTACH;FMTTYPE=image/jpeg:https://christchurchcos.com/wp-content/uploads/2025/05/pexels-caio-46274-scaled.jpg
END:VEVENT
BEGIN:VEVENT
DTSTART;TZID=America/Denver:20270925T073000
DTEND;TZID=America/Denver:20270925T090000
DTSTAMP:20260419T170116
CREATED:20260407T135747Z
LAST-MODIFIED:20260407T135748Z
UID:10007464-1821857400-1821862800@christchurchcos.com
SUMMARY:Life and Liturgy
DESCRIPTION:Join us as we read through and discuss Letters to a Diminished Church by Dorothy L. Sayers at Boonzaaijer’s Dutch Bakery.
URL:https://christchurchcos.com/calendar/mens-fellowship-and-study-2-2-2-2/2027-09-25/
LOCATION:Boonzaaijer’s Dutch Bakery\, Boonzaaijer's Dutch Bakery\, 610 East Fillmore Street\, Colorado Springs\, CO\, 80907\, United States
ATTACH;FMTTYPE=image/jpeg:https://christchurchcos.com/wp-content/uploads/2025/05/pexels-caio-46274-scaled.jpg
END:VEVENT
BEGIN:VEVENT
DTSTART;TZID=America/Denver:20270926T100000
DTEND;TZID=America/Denver:20270926T110000
DTSTAMP:20260419T170116
CREATED:20251031T185629Z
LAST-MODIFIED:20251102T093109Z
UID:10007251-1821952800-1821956400@christchurchcos.com
SUMMARY:Holy Communion
DESCRIPTION:Morning Worship with a Eucharist Service is held every Sunday morning at 10:00 AM with sermon and hymns. Children are welcome in the service\, but there are also quiet spaces available for those who may need extra attention.
URL:https://christchurchcos.com/calendar/holy-communion-4/2027-09-26/
LOCATION:Christ Church Anglican\, Christ Church Anglican\, 625 1st Street\, Colorado Springs\, CO\, 80907\, United States
ATTACH;FMTTYPE=image/jpeg:https://christchurchcos.com/wp-content/uploads/2025/04/holycommunion.jpg
END:VEVENT
BEGIN:VEVENT
DTSTART;TZID=America/Denver:20270926T113000
DTEND;TZID=America/Denver:20270926T123000
DTSTAMP:20260419T170116
CREATED:20251103T001928Z
LAST-MODIFIED:20251103T001929Z
UID:10004727-1821958200-1821961800@christchurchcos.com
SUMMARY:Catechesis
DESCRIPTION:Adult and children’s classes will follow coffee hour.
URL:https://christchurchcos.com/calendar/catechesis-15-2-2/2027-09-26/
LOCATION:Christ Church Anglican\, Christ Church Anglican\, 625 1st Street\, Colorado Springs\, CO\, 80907\, United States
ATTACH;FMTTYPE=image/jpeg:https://christchurchcos.com/wp-content/uploads/2025/04/001.jpg
END:VEVENT
BEGIN:VEVENT
DTSTART;TZID=America/Denver:20270926T173000
DTEND;TZID=America/Denver:20270926T210000
DTSTAMP:20260419T170116
CREATED:20251103T000142Z
LAST-MODIFIED:20251103T000142Z
UID:10003110-1821979800-1821992400@christchurchcos.com
SUMMARY:Potluck and Evensong
DESCRIPTION:A form of Evensong is held at 5:30 PM on Sunday evenings at one of our members’ homes. Please contact vicar@christchurchcos.com for more information. The service itself begins at 6:00 PM following the 5:30 PM fellowship meal. We close the evening with a time of discussion and study. All interested are welcome. This is a great opportunity to get to know Anglicanism and ask questions for those not ready to join with us in a worship service – or just join us for the fellowship.
URL:https://christchurchcos.com/calendar/potluck-and-evensong-5/2027-09-26/
LOCATION:CO
ATTACH;FMTTYPE=image/jpeg:https://christchurchcos.com/wp-content/uploads/2025/04/evansong.jpg
END:VEVENT
BEGIN:VEVENT
DTSTART;TZID=America/Denver:20270927T190000
DTEND;TZID=America/Denver:20270927T210000
DTSTAMP:20260419T170116
CREATED:20251103T000757Z
LAST-MODIFIED:20260315T011954Z
UID:10004275-1822071600-1822078800@christchurchcos.com
SUMMARY:Ladies' Study and Fellowship
DESCRIPTION:Join us for a no-prep study of Through New Eyes by James B. Jordan\, snacks\, and fellowship. \nContact vicar@christchurchcos.com for location and directions.
URL:https://christchurchcos.com/calendar/ladies-study-and-fellowship-2-2-2/2027-09-27/
LOCATION:CO
ATTACH;FMTTYPE=image/jpeg:https://christchurchcos.com/wp-content/uploads/2025/05/pexels-emily-252615-768125-scaled.jpg
END:VEVENT
BEGIN:VEVENT
DTSTART;TZID=America/Denver:20270929T183000
DTEND;TZID=America/Denver:20270929T200000
DTSTAMP:20260419T170116
CREATED:20251103T000244Z
LAST-MODIFIED:20260407T135654Z
UID:10003905-1822242600-1822248000@christchurchcos.com
SUMMARY:Wednesday Evensong/Children's Choir Practice
DESCRIPTION:
URL:https://christchurchcos.com/calendar/evensong-and-study-2-2-4/2027-09-29/
LOCATION:Christ Church Anglican\, Christ Church Anglican\, 625 1st Street\, Colorado Springs\, CO\, 80907\, United States
ATTACH;FMTTYPE=image/jpeg:https://christchurchcos.com/wp-content/uploads/2025/04/DSC_06331.jpeg
END:VEVENT
END:VCALENDAR