BEGIN:VCALENDAR
VERSION:2.0
PRODID:-//Christ Church Anglican - ECPv6.15.20//NONSGML v1.0//EN
CALSCALE:GREGORIAN
METHOD:PUBLISH
X-WR-CALNAME:Christ Church Anglican
X-ORIGINAL-URL:https://christchurchcos.com
X-WR-CALDESC:Events for Christ Church Anglican
REFRESH-INTERVAL;VALUE=DURATION:PT1H
X-Robots-Tag:noindex
X-PUBLISHED-TTL:PT1H
BEGIN:VTIMEZONE
TZID:America/Denver
BEGIN:DAYLIGHT
TZOFFSETFROM:-0700
TZOFFSETTO:-0600
TZNAME:MDT
DTSTART:20260308T090000
END:DAYLIGHT
BEGIN:STANDARD
TZOFFSETFROM:-0600
TZOFFSETTO:-0700
TZNAME:MST
DTSTART:20261101T080000
END:STANDARD
BEGIN:DAYLIGHT
TZOFFSETFROM:-0700
TZOFFSETTO:-0600
TZNAME:MDT
DTSTART:20270314T090000
END:DAYLIGHT
BEGIN:STANDARD
TZOFFSETFROM:-0600
TZOFFSETTO:-0700
TZNAME:MST
DTSTART:20271107T080000
END:STANDARD
BEGIN:DAYLIGHT
TZOFFSETFROM:-0700
TZOFFSETTO:-0600
TZNAME:MDT
DTSTART:20280312T090000
END:DAYLIGHT
BEGIN:STANDARD
TZOFFSETFROM:-0600
TZOFFSETTO:-0700
TZNAME:MST
DTSTART:20281105T080000
END:STANDARD
BEGIN:DAYLIGHT
TZOFFSETFROM:-0700
TZOFFSETTO:-0600
TZNAME:MDT
DTSTART:20290311T090000
END:DAYLIGHT
BEGIN:STANDARD
TZOFFSETFROM:-0600
TZOFFSETTO:-0700
TZNAME:MST
DTSTART:20291104T080000
END:STANDARD
END:VTIMEZONE
BEGIN:VEVENT
DTSTART;TZID=America/Denver:20271205T173000
DTEND;TZID=America/Denver:20271205T210000
DTSTAMP:20260420T074725
CREATED:20251103T000142Z
LAST-MODIFIED:20251103T000142Z
UID:10003120-1828027800-1828040400@christchurchcos.com
SUMMARY:Potluck and Evensong
DESCRIPTION:A form of Evensong is held at 5:30 PM on Sunday evenings at one of our members’ homes. Please contact vicar@christchurchcos.com for more information. The service itself begins at 6:00 PM following the 5:30 PM fellowship meal. We close the evening with a time of discussion and study. All interested are welcome. This is a great opportunity to get to know Anglicanism and ask questions for those not ready to join with us in a worship service – or just join us for the fellowship.
URL:https://christchurchcos.com/calendar/potluck-and-evensong-5/2027-12-05/
LOCATION:CO
ATTACH;FMTTYPE=image/jpeg:https://christchurchcos.com/wp-content/uploads/2025/04/evansong.jpg
END:VEVENT
BEGIN:VEVENT
DTSTART;TZID=America/Denver:20271208T183000
DTEND;TZID=America/Denver:20271208T200000
DTSTAMP:20260420T074725
CREATED:20251103T000244Z
LAST-MODIFIED:20260407T135654Z
UID:10003915-1828290600-1828296000@christchurchcos.com
SUMMARY:Wednesday Evensong/Children's Choir Practice
DESCRIPTION:
URL:https://christchurchcos.com/calendar/evensong-and-study-2-2-4/2027-12-08/
LOCATION:Christ Church Anglican\, Christ Church Anglican\, 625 1st Street\, Colorado Springs\, CO\, 80907\, United States
ATTACH;FMTTYPE=image/jpeg:https://christchurchcos.com/wp-content/uploads/2025/04/DSC_06331.jpeg
END:VEVENT
BEGIN:VEVENT
DTSTART;TZID=America/Denver:20271211T073000
DTEND;TZID=America/Denver:20271211T090000
DTSTAMP:20260420T074725
CREATED:20260313T214323Z
LAST-MODIFIED:20260407T135826Z
UID:10007758-1828510200-1828515600@christchurchcos.com
SUMMARY:Life and Liturgy
DESCRIPTION:Join us as we read through and discuss Letters to a Diminished Church by Dorothy L. Sayers at Boonzaaijer’s Dutch Bakery.
URL:https://christchurchcos.com/calendar/mens-fellowship-and-study-2-2-2/2027-12-11/
LOCATION:Boonzaaijer’s Dutch Bakery\, Boonzaaijer's Dutch Bakery\, 610 East Fillmore Street\, Colorado Springs\, CO\, 80907\, United States
ATTACH;FMTTYPE=image/jpeg:https://christchurchcos.com/wp-content/uploads/2025/05/pexels-caio-46274-scaled.jpg
END:VEVENT
BEGIN:VEVENT
DTSTART;TZID=America/Denver:20271211T073000
DTEND;TZID=America/Denver:20271211T090000
DTSTAMP:20260420T074725
CREATED:20260407T135747Z
LAST-MODIFIED:20260407T135748Z
UID:10007469-1828510200-1828515600@christchurchcos.com
SUMMARY:Life and Liturgy
DESCRIPTION:Join us as we read through and discuss Letters to a Diminished Church by Dorothy L. Sayers at Boonzaaijer’s Dutch Bakery.
URL:https://christchurchcos.com/calendar/mens-fellowship-and-study-2-2-2-2/2027-12-11/
LOCATION:Boonzaaijer’s Dutch Bakery\, Boonzaaijer's Dutch Bakery\, 610 East Fillmore Street\, Colorado Springs\, CO\, 80907\, United States
ATTACH;FMTTYPE=image/jpeg:https://christchurchcos.com/wp-content/uploads/2025/05/pexels-caio-46274-scaled.jpg
END:VEVENT
BEGIN:VEVENT
DTSTART;TZID=America/Denver:20271212T100000
DTEND;TZID=America/Denver:20271212T110000
DTSTAMP:20260420T074725
CREATED:20251031T185629Z
LAST-MODIFIED:20251102T093109Z
UID:10007262-1828605600-1828609200@christchurchcos.com
SUMMARY:Holy Communion
DESCRIPTION:Morning Worship with a Eucharist Service is held every Sunday morning at 10:00 AM with sermon and hymns. Children are welcome in the service\, but there are also quiet spaces available for those who may need extra attention.
URL:https://christchurchcos.com/calendar/holy-communion-4/2027-12-12/
LOCATION:Christ Church Anglican\, Christ Church Anglican\, 625 1st Street\, Colorado Springs\, CO\, 80907\, United States
ATTACH;FMTTYPE=image/jpeg:https://christchurchcos.com/wp-content/uploads/2025/04/holycommunion.jpg
END:VEVENT
BEGIN:VEVENT
DTSTART;TZID=America/Denver:20271212T113000
DTEND;TZID=America/Denver:20271212T123000
DTSTAMP:20260420T074725
CREATED:20251103T001928Z
LAST-MODIFIED:20251103T001929Z
UID:10004738-1828611000-1828614600@christchurchcos.com
SUMMARY:Catechesis
DESCRIPTION:Adult and children’s classes will follow coffee hour.
URL:https://christchurchcos.com/calendar/catechesis-15-2-2/2027-12-12/
LOCATION:Christ Church Anglican\, Christ Church Anglican\, 625 1st Street\, Colorado Springs\, CO\, 80907\, United States
ATTACH;FMTTYPE=image/jpeg:https://christchurchcos.com/wp-content/uploads/2025/04/001.jpg
END:VEVENT
BEGIN:VEVENT
DTSTART;TZID=America/Denver:20271212T173000
DTEND;TZID=America/Denver:20271212T210000
DTSTAMP:20260420T074725
CREATED:20251103T000142Z
LAST-MODIFIED:20251103T000142Z
UID:10003121-1828632600-1828645200@christchurchcos.com
SUMMARY:Potluck and Evensong
DESCRIPTION:A form of Evensong is held at 5:30 PM on Sunday evenings at one of our members’ homes. Please contact vicar@christchurchcos.com for more information. The service itself begins at 6:00 PM following the 5:30 PM fellowship meal. We close the evening with a time of discussion and study. All interested are welcome. This is a great opportunity to get to know Anglicanism and ask questions for those not ready to join with us in a worship service – or just join us for the fellowship.
URL:https://christchurchcos.com/calendar/potluck-and-evensong-5/2027-12-12/
LOCATION:CO
ATTACH;FMTTYPE=image/jpeg:https://christchurchcos.com/wp-content/uploads/2025/04/evansong.jpg
END:VEVENT
BEGIN:VEVENT
DTSTART;TZID=America/Denver:20271213T190000
DTEND;TZID=America/Denver:20271213T210000
DTSTAMP:20260420T074725
CREATED:20251103T000757Z
LAST-MODIFIED:20260315T011954Z
UID:10004281-1828724400-1828731600@christchurchcos.com
SUMMARY:Ladies' Study and Fellowship
DESCRIPTION:Join us for a no-prep study of Through New Eyes by James B. Jordan\, snacks\, and fellowship. \nContact vicar@christchurchcos.com for location and directions.
URL:https://christchurchcos.com/calendar/ladies-study-and-fellowship-2-2-2/2027-12-13/
LOCATION:CO
ATTACH;FMTTYPE=image/jpeg:https://christchurchcos.com/wp-content/uploads/2025/05/pexels-emily-252615-768125-scaled.jpg
END:VEVENT
BEGIN:VEVENT
DTSTART;TZID=America/Denver:20271215T183000
DTEND;TZID=America/Denver:20271215T200000
DTSTAMP:20260420T074725
CREATED:20251103T000244Z
LAST-MODIFIED:20260407T135654Z
UID:10003916-1828895400-1828900800@christchurchcos.com
SUMMARY:Wednesday Evensong/Children's Choir Practice
DESCRIPTION:
URL:https://christchurchcos.com/calendar/evensong-and-study-2-2-4/2027-12-15/
LOCATION:Christ Church Anglican\, Christ Church Anglican\, 625 1st Street\, Colorado Springs\, CO\, 80907\, United States
ATTACH;FMTTYPE=image/jpeg:https://christchurchcos.com/wp-content/uploads/2025/04/DSC_06331.jpeg
END:VEVENT
BEGIN:VEVENT
DTSTART;TZID=America/Denver:20271219T100000
DTEND;TZID=America/Denver:20271219T110000
DTSTAMP:20260420T074725
CREATED:20251031T185629Z
LAST-MODIFIED:20251102T093109Z
UID:10007263-1829210400-1829214000@christchurchcos.com
SUMMARY:Holy Communion
DESCRIPTION:Morning Worship with a Eucharist Service is held every Sunday morning at 10:00 AM with sermon and hymns. Children are welcome in the service\, but there are also quiet spaces available for those who may need extra attention.
URL:https://christchurchcos.com/calendar/holy-communion-4/2027-12-19/
LOCATION:Christ Church Anglican\, Christ Church Anglican\, 625 1st Street\, Colorado Springs\, CO\, 80907\, United States
ATTACH;FMTTYPE=image/jpeg:https://christchurchcos.com/wp-content/uploads/2025/04/holycommunion.jpg
END:VEVENT
BEGIN:VEVENT
DTSTART;TZID=America/Denver:20271219T113000
DTEND;TZID=America/Denver:20271219T123000
DTSTAMP:20260420T074725
CREATED:20251103T001928Z
LAST-MODIFIED:20251103T001929Z
UID:10004739-1829215800-1829219400@christchurchcos.com
SUMMARY:Catechesis
DESCRIPTION:Adult and children’s classes will follow coffee hour.
URL:https://christchurchcos.com/calendar/catechesis-15-2-2/2027-12-19/
LOCATION:Christ Church Anglican\, Christ Church Anglican\, 625 1st Street\, Colorado Springs\, CO\, 80907\, United States
ATTACH;FMTTYPE=image/jpeg:https://christchurchcos.com/wp-content/uploads/2025/04/001.jpg
END:VEVENT
BEGIN:VEVENT
DTSTART;TZID=America/Denver:20271219T173000
DTEND;TZID=America/Denver:20271219T210000
DTSTAMP:20260420T074725
CREATED:20251103T000142Z
LAST-MODIFIED:20251103T000142Z
UID:10003122-1829237400-1829250000@christchurchcos.com
SUMMARY:Potluck and Evensong
DESCRIPTION:A form of Evensong is held at 5:30 PM on Sunday evenings at one of our members’ homes. Please contact vicar@christchurchcos.com for more information. The service itself begins at 6:00 PM following the 5:30 PM fellowship meal. We close the evening with a time of discussion and study. All interested are welcome. This is a great opportunity to get to know Anglicanism and ask questions for those not ready to join with us in a worship service – or just join us for the fellowship.
URL:https://christchurchcos.com/calendar/potluck-and-evensong-5/2027-12-19/
LOCATION:CO
ATTACH;FMTTYPE=image/jpeg:https://christchurchcos.com/wp-content/uploads/2025/04/evansong.jpg
END:VEVENT
BEGIN:VEVENT
DTSTART;TZID=America/Denver:20271222T183000
DTEND;TZID=America/Denver:20271222T200000
DTSTAMP:20260420T074725
CREATED:20251103T000244Z
LAST-MODIFIED:20260407T135654Z
UID:10003917-1829500200-1829505600@christchurchcos.com
SUMMARY:Wednesday Evensong/Children's Choir Practice
DESCRIPTION:
URL:https://christchurchcos.com/calendar/evensong-and-study-2-2-4/2027-12-22/
LOCATION:Christ Church Anglican\, Christ Church Anglican\, 625 1st Street\, Colorado Springs\, CO\, 80907\, United States
ATTACH;FMTTYPE=image/jpeg:https://christchurchcos.com/wp-content/uploads/2025/04/DSC_06331.jpeg
END:VEVENT
BEGIN:VEVENT
DTSTART;TZID=America/Denver:20271225T073000
DTEND;TZID=America/Denver:20271225T090000
DTSTAMP:20260420T074725
CREATED:20260313T214323Z
LAST-MODIFIED:20260407T135826Z
UID:10007759-1829719800-1829725200@christchurchcos.com
SUMMARY:Life and Liturgy
DESCRIPTION:Join us as we read through and discuss Letters to a Diminished Church by Dorothy L. Sayers at Boonzaaijer’s Dutch Bakery.
URL:https://christchurchcos.com/calendar/mens-fellowship-and-study-2-2-2/2027-12-25/
LOCATION:Boonzaaijer’s Dutch Bakery\, Boonzaaijer's Dutch Bakery\, 610 East Fillmore Street\, Colorado Springs\, CO\, 80907\, United States
ATTACH;FMTTYPE=image/jpeg:https://christchurchcos.com/wp-content/uploads/2025/05/pexels-caio-46274-scaled.jpg
END:VEVENT
BEGIN:VEVENT
DTSTART;TZID=America/Denver:20271225T073000
DTEND;TZID=America/Denver:20271225T090000
DTSTAMP:20260420T074725
CREATED:20260407T135747Z
LAST-MODIFIED:20260407T135748Z
UID:10007470-1829719800-1829725200@christchurchcos.com
SUMMARY:Life and Liturgy
DESCRIPTION:Join us as we read through and discuss Letters to a Diminished Church by Dorothy L. Sayers at Boonzaaijer’s Dutch Bakery.
URL:https://christchurchcos.com/calendar/mens-fellowship-and-study-2-2-2-2/2027-12-25/
LOCATION:Boonzaaijer’s Dutch Bakery\, Boonzaaijer's Dutch Bakery\, 610 East Fillmore Street\, Colorado Springs\, CO\, 80907\, United States
ATTACH;FMTTYPE=image/jpeg:https://christchurchcos.com/wp-content/uploads/2025/05/pexels-caio-46274-scaled.jpg
END:VEVENT
BEGIN:VEVENT
DTSTART;TZID=America/Denver:20271226T100000
DTEND;TZID=America/Denver:20271226T110000
DTSTAMP:20260420T074725
CREATED:20251031T185629Z
LAST-MODIFIED:20251102T093109Z
UID:10007264-1829815200-1829818800@christchurchcos.com
SUMMARY:Holy Communion
DESCRIPTION:Morning Worship with a Eucharist Service is held every Sunday morning at 10:00 AM with sermon and hymns. Children are welcome in the service\, but there are also quiet spaces available for those who may need extra attention.
URL:https://christchurchcos.com/calendar/holy-communion-4/2027-12-26/
LOCATION:Christ Church Anglican\, Christ Church Anglican\, 625 1st Street\, Colorado Springs\, CO\, 80907\, United States
ATTACH;FMTTYPE=image/jpeg:https://christchurchcos.com/wp-content/uploads/2025/04/holycommunion.jpg
END:VEVENT
BEGIN:VEVENT
DTSTART;TZID=America/Denver:20271226T113000
DTEND;TZID=America/Denver:20271226T123000
DTSTAMP:20260420T074725
CREATED:20251103T001928Z
LAST-MODIFIED:20251103T001929Z
UID:10004740-1829820600-1829824200@christchurchcos.com
SUMMARY:Catechesis
DESCRIPTION:Adult and children’s classes will follow coffee hour.
URL:https://christchurchcos.com/calendar/catechesis-15-2-2/2027-12-26/
LOCATION:Christ Church Anglican\, Christ Church Anglican\, 625 1st Street\, Colorado Springs\, CO\, 80907\, United States
ATTACH;FMTTYPE=image/jpeg:https://christchurchcos.com/wp-content/uploads/2025/04/001.jpg
END:VEVENT
BEGIN:VEVENT
DTSTART;TZID=America/Denver:20271226T173000
DTEND;TZID=America/Denver:20271226T210000
DTSTAMP:20260420T074725
CREATED:20251103T000142Z
LAST-MODIFIED:20251103T000142Z
UID:10003123-1829842200-1829854800@christchurchcos.com
SUMMARY:Potluck and Evensong
DESCRIPTION:A form of Evensong is held at 5:30 PM on Sunday evenings at one of our members’ homes. Please contact vicar@christchurchcos.com for more information. The service itself begins at 6:00 PM following the 5:30 PM fellowship meal. We close the evening with a time of discussion and study. All interested are welcome. This is a great opportunity to get to know Anglicanism and ask questions for those not ready to join with us in a worship service – or just join us for the fellowship.
URL:https://christchurchcos.com/calendar/potluck-and-evensong-5/2027-12-26/
LOCATION:CO
ATTACH;FMTTYPE=image/jpeg:https://christchurchcos.com/wp-content/uploads/2025/04/evansong.jpg
END:VEVENT
BEGIN:VEVENT
DTSTART;TZID=America/Denver:20271227T190000
DTEND;TZID=America/Denver:20271227T210000
DTSTAMP:20260420T074725
CREATED:20251103T000757Z
LAST-MODIFIED:20260315T011954Z
UID:10004282-1829934000-1829941200@christchurchcos.com
SUMMARY:Ladies' Study and Fellowship
DESCRIPTION:Join us for a no-prep study of Through New Eyes by James B. Jordan\, snacks\, and fellowship. \nContact vicar@christchurchcos.com for location and directions.
URL:https://christchurchcos.com/calendar/ladies-study-and-fellowship-2-2-2/2027-12-27/
LOCATION:CO
ATTACH;FMTTYPE=image/jpeg:https://christchurchcos.com/wp-content/uploads/2025/05/pexels-emily-252615-768125-scaled.jpg
END:VEVENT
BEGIN:VEVENT
DTSTART;TZID=America/Denver:20271229T183000
DTEND;TZID=America/Denver:20271229T200000
DTSTAMP:20260420T074725
CREATED:20251103T000244Z
LAST-MODIFIED:20260407T135654Z
UID:10003918-1830105000-1830110400@christchurchcos.com
SUMMARY:Wednesday Evensong/Children's Choir Practice
DESCRIPTION:
URL:https://christchurchcos.com/calendar/evensong-and-study-2-2-4/2027-12-29/
LOCATION:Christ Church Anglican\, Christ Church Anglican\, 625 1st Street\, Colorado Springs\, CO\, 80907\, United States
ATTACH;FMTTYPE=image/jpeg:https://christchurchcos.com/wp-content/uploads/2025/04/DSC_06331.jpeg
END:VEVENT
BEGIN:VEVENT
DTSTART;TZID=America/Denver:20280102T100000
DTEND;TZID=America/Denver:20280102T110000
DTSTAMP:20260420T074725
CREATED:20251031T185629Z
LAST-MODIFIED:20251102T093109Z
UID:10007265-1830420000-1830423600@christchurchcos.com
SUMMARY:Holy Communion
DESCRIPTION:Morning Worship with a Eucharist Service is held every Sunday morning at 10:00 AM with sermon and hymns. Children are welcome in the service\, but there are also quiet spaces available for those who may need extra attention.
URL:https://christchurchcos.com/calendar/holy-communion-4/2028-01-02/
LOCATION:Christ Church Anglican\, Christ Church Anglican\, 625 1st Street\, Colorado Springs\, CO\, 80907\, United States
ATTACH;FMTTYPE=image/jpeg:https://christchurchcos.com/wp-content/uploads/2025/04/holycommunion.jpg
END:VEVENT
BEGIN:VEVENT
DTSTART;TZID=America/Denver:20280102T113000
DTEND;TZID=America/Denver:20280102T123000
DTSTAMP:20260420T074725
CREATED:20251103T001928Z
LAST-MODIFIED:20251103T001929Z
UID:10004741-1830425400-1830429000@christchurchcos.com
SUMMARY:Catechesis
DESCRIPTION:Adult and children’s classes will follow coffee hour.
URL:https://christchurchcos.com/calendar/catechesis-15-2-2/2028-01-02/
LOCATION:Christ Church Anglican\, Christ Church Anglican\, 625 1st Street\, Colorado Springs\, CO\, 80907\, United States
ATTACH;FMTTYPE=image/jpeg:https://christchurchcos.com/wp-content/uploads/2025/04/001.jpg
END:VEVENT
BEGIN:VEVENT
DTSTART;TZID=America/Denver:20280102T173000
DTEND;TZID=America/Denver:20280102T210000
DTSTAMP:20260420T074725
CREATED:20251103T000142Z
LAST-MODIFIED:20251103T000142Z
UID:10003124-1830447000-1830459600@christchurchcos.com
SUMMARY:Potluck and Evensong
DESCRIPTION:A form of Evensong is held at 5:30 PM on Sunday evenings at one of our members’ homes. Please contact vicar@christchurchcos.com for more information. The service itself begins at 6:00 PM following the 5:30 PM fellowship meal. We close the evening with a time of discussion and study. All interested are welcome. This is a great opportunity to get to know Anglicanism and ask questions for those not ready to join with us in a worship service – or just join us for the fellowship.
URL:https://christchurchcos.com/calendar/potluck-and-evensong-5/2028-01-02/
LOCATION:CO
ATTACH;FMTTYPE=image/jpeg:https://christchurchcos.com/wp-content/uploads/2025/04/evansong.jpg
END:VEVENT
BEGIN:VEVENT
DTSTART;TZID=America/Denver:20280105T183000
DTEND;TZID=America/Denver:20280105T200000
DTSTAMP:20260420T074725
CREATED:20251103T000244Z
LAST-MODIFIED:20260407T135654Z
UID:10003919-1830709800-1830715200@christchurchcos.com
SUMMARY:Wednesday Evensong/Children's Choir Practice
DESCRIPTION:
URL:https://christchurchcos.com/calendar/evensong-and-study-2-2-4/2028-01-05/
LOCATION:Christ Church Anglican\, Christ Church Anglican\, 625 1st Street\, Colorado Springs\, CO\, 80907\, United States
ATTACH;FMTTYPE=image/jpeg:https://christchurchcos.com/wp-content/uploads/2025/04/DSC_06331.jpeg
END:VEVENT
BEGIN:VEVENT
DTSTART;TZID=America/Denver:20280108T073000
DTEND;TZID=America/Denver:20280108T090000
DTSTAMP:20260420T074725
CREATED:20260313T214323Z
LAST-MODIFIED:20260407T135826Z
UID:10007760-1830929400-1830934800@christchurchcos.com
SUMMARY:Life and Liturgy
DESCRIPTION:Join us as we read through and discuss Letters to a Diminished Church by Dorothy L. Sayers at Boonzaaijer’s Dutch Bakery.
URL:https://christchurchcos.com/calendar/mens-fellowship-and-study-2-2-2/2028-01-08/
LOCATION:Boonzaaijer’s Dutch Bakery\, Boonzaaijer's Dutch Bakery\, 610 East Fillmore Street\, Colorado Springs\, CO\, 80907\, United States
ATTACH;FMTTYPE=image/jpeg:https://christchurchcos.com/wp-content/uploads/2025/05/pexels-caio-46274-scaled.jpg
END:VEVENT
BEGIN:VEVENT
DTSTART;TZID=America/Denver:20280108T073000
DTEND;TZID=America/Denver:20280108T090000
DTSTAMP:20260420T074725
CREATED:20260407T135747Z
LAST-MODIFIED:20260407T135748Z
UID:10007471-1830929400-1830934800@christchurchcos.com
SUMMARY:Life and Liturgy
DESCRIPTION:Join us as we read through and discuss Letters to a Diminished Church by Dorothy L. Sayers at Boonzaaijer’s Dutch Bakery.
URL:https://christchurchcos.com/calendar/mens-fellowship-and-study-2-2-2-2/2028-01-08/
LOCATION:Boonzaaijer’s Dutch Bakery\, Boonzaaijer's Dutch Bakery\, 610 East Fillmore Street\, Colorado Springs\, CO\, 80907\, United States
ATTACH;FMTTYPE=image/jpeg:https://christchurchcos.com/wp-content/uploads/2025/05/pexels-caio-46274-scaled.jpg
END:VEVENT
BEGIN:VEVENT
DTSTART;TZID=America/Denver:20280109T100000
DTEND;TZID=America/Denver:20280109T110000
DTSTAMP:20260420T074725
CREATED:20251031T185629Z
LAST-MODIFIED:20251102T093109Z
UID:10007266-1831024800-1831028400@christchurchcos.com
SUMMARY:Holy Communion
DESCRIPTION:Morning Worship with a Eucharist Service is held every Sunday morning at 10:00 AM with sermon and hymns. Children are welcome in the service\, but there are also quiet spaces available for those who may need extra attention.
URL:https://christchurchcos.com/calendar/holy-communion-4/2028-01-09/
LOCATION:Christ Church Anglican\, Christ Church Anglican\, 625 1st Street\, Colorado Springs\, CO\, 80907\, United States
ATTACH;FMTTYPE=image/jpeg:https://christchurchcos.com/wp-content/uploads/2025/04/holycommunion.jpg
END:VEVENT
BEGIN:VEVENT
DTSTART;TZID=America/Denver:20280109T113000
DTEND;TZID=America/Denver:20280109T123000
DTSTAMP:20260420T074725
CREATED:20251103T001928Z
LAST-MODIFIED:20251103T001929Z
UID:10004742-1831030200-1831033800@christchurchcos.com
SUMMARY:Catechesis
DESCRIPTION:Adult and children’s classes will follow coffee hour.
URL:https://christchurchcos.com/calendar/catechesis-15-2-2/2028-01-09/
LOCATION:Christ Church Anglican\, Christ Church Anglican\, 625 1st Street\, Colorado Springs\, CO\, 80907\, United States
ATTACH;FMTTYPE=image/jpeg:https://christchurchcos.com/wp-content/uploads/2025/04/001.jpg
END:VEVENT
BEGIN:VEVENT
DTSTART;TZID=America/Denver:20280109T173000
DTEND;TZID=America/Denver:20280109T210000
DTSTAMP:20260420T074725
CREATED:20251103T000142Z
LAST-MODIFIED:20251103T000142Z
UID:10003125-1831051800-1831064400@christchurchcos.com
SUMMARY:Potluck and Evensong
DESCRIPTION:A form of Evensong is held at 5:30 PM on Sunday evenings at one of our members’ homes. Please contact vicar@christchurchcos.com for more information. The service itself begins at 6:00 PM following the 5:30 PM fellowship meal. We close the evening with a time of discussion and study. All interested are welcome. This is a great opportunity to get to know Anglicanism and ask questions for those not ready to join with us in a worship service – or just join us for the fellowship.
URL:https://christchurchcos.com/calendar/potluck-and-evensong-5/2028-01-09/
LOCATION:CO
ATTACH;FMTTYPE=image/jpeg:https://christchurchcos.com/wp-content/uploads/2025/04/evansong.jpg
END:VEVENT
BEGIN:VEVENT
DTSTART;TZID=America/Denver:20280110T190000
DTEND;TZID=America/Denver:20280110T210000
DTSTAMP:20260420T074725
CREATED:20251103T000757Z
LAST-MODIFIED:20260315T011954Z
UID:10004283-1831143600-1831150800@christchurchcos.com
SUMMARY:Ladies' Study and Fellowship
DESCRIPTION:Join us for a no-prep study of Through New Eyes by James B. Jordan\, snacks\, and fellowship. \nContact vicar@christchurchcos.com for location and directions.
URL:https://christchurchcos.com/calendar/ladies-study-and-fellowship-2-2-2/2028-01-10/
LOCATION:CO
ATTACH;FMTTYPE=image/jpeg:https://christchurchcos.com/wp-content/uploads/2025/05/pexels-emily-252615-768125-scaled.jpg
END:VEVENT
END:VCALENDAR