BEGIN:VCALENDAR
VERSION:2.0
PRODID:-//Christ Church Anglican - ECPv6.15.20//NONSGML v1.0//EN
CALSCALE:GREGORIAN
METHOD:PUBLISH
X-ORIGINAL-URL:https://christchurchcos.com
X-WR-CALDESC:Events for Christ Church Anglican
REFRESH-INTERVAL;VALUE=DURATION:PT1H
X-Robots-Tag:noindex
X-PUBLISHED-TTL:PT1H
BEGIN:VTIMEZONE
TZID:America/Denver
BEGIN:DAYLIGHT
TZOFFSETFROM:-0700
TZOFFSETTO:-0600
TZNAME:MDT
DTSTART:20270314T090000
END:DAYLIGHT
BEGIN:STANDARD
TZOFFSETFROM:-0600
TZOFFSETTO:-0700
TZNAME:MST
DTSTART:20271107T080000
END:STANDARD
BEGIN:DAYLIGHT
TZOFFSETFROM:-0700
TZOFFSETTO:-0600
TZNAME:MDT
DTSTART:20280312T090000
END:DAYLIGHT
BEGIN:STANDARD
TZOFFSETFROM:-0600
TZOFFSETTO:-0700
TZNAME:MST
DTSTART:20281105T080000
END:STANDARD
BEGIN:DAYLIGHT
TZOFFSETFROM:-0700
TZOFFSETTO:-0600
TZNAME:MDT
DTSTART:20290311T090000
END:DAYLIGHT
BEGIN:STANDARD
TZOFFSETFROM:-0600
TZOFFSETTO:-0700
TZNAME:MST
DTSTART:20291104T080000
END:STANDARD
END:VTIMEZONE
BEGIN:VEVENT
DTSTART;TZID=America/Denver:20280122T073000
DTEND;TZID=America/Denver:20280122T090000
DTSTAMP:20260420T152122
CREATED:20260407T135747Z
LAST-MODIFIED:20260407T135748Z
UID:10007472-1832139000-1832144400@christchurchcos.com
SUMMARY:Life and Liturgy
DESCRIPTION:Join us as we read through and discuss Letters to a Diminished Church by Dorothy L. Sayers at Boonzaaijer’s Dutch Bakery.
URL:https://christchurchcos.com/calendar/mens-fellowship-and-study-2-2-2-2/2028-01-22/
LOCATION:Boonzaaijer’s Dutch Bakery\, Boonzaaijer's Dutch Bakery\, 610 East Fillmore Street\, Colorado Springs\, CO\, 80907\, United States
ATTACH;FMTTYPE=image/jpeg:https://christchurchcos.com/wp-content/uploads/2025/05/pexels-caio-46274-scaled.jpg
END:VEVENT
BEGIN:VEVENT
DTSTART;TZID=America/Denver:20280123T100000
DTEND;TZID=America/Denver:20280123T110000
DTSTAMP:20260420T152122
CREATED:20251031T185629Z
LAST-MODIFIED:20251102T093109Z
UID:10007268-1832234400-1832238000@christchurchcos.com
SUMMARY:Holy Communion
DESCRIPTION:Morning Worship with a Eucharist Service is held every Sunday morning at 10:00 AM with sermon and hymns. Children are welcome in the service\, but there are also quiet spaces available for those who may need extra attention.
URL:https://christchurchcos.com/calendar/holy-communion-4/2028-01-23/
LOCATION:Christ Church Anglican\, Christ Church Anglican\, 625 1st Street\, Colorado Springs\, CO\, 80907\, United States
ATTACH;FMTTYPE=image/jpeg:https://christchurchcos.com/wp-content/uploads/2025/04/holycommunion.jpg
END:VEVENT
BEGIN:VEVENT
DTSTART;TZID=America/Denver:20280123T113000
DTEND;TZID=America/Denver:20280123T123000
DTSTAMP:20260420T152122
CREATED:20251103T001928Z
LAST-MODIFIED:20251103T001929Z
UID:10004744-1832239800-1832243400@christchurchcos.com
SUMMARY:Catechesis
DESCRIPTION:Adult and children’s classes will follow coffee hour.
URL:https://christchurchcos.com/calendar/catechesis-15-2-2/2028-01-23/
LOCATION:Christ Church Anglican\, Christ Church Anglican\, 625 1st Street\, Colorado Springs\, CO\, 80907\, United States
ATTACH;FMTTYPE=image/jpeg:https://christchurchcos.com/wp-content/uploads/2025/04/001.jpg
END:VEVENT
BEGIN:VEVENT
DTSTART;TZID=America/Denver:20280123T173000
DTEND;TZID=America/Denver:20280123T210000
DTSTAMP:20260420T152122
CREATED:20251103T000142Z
LAST-MODIFIED:20251103T000142Z
UID:10003127-1832261400-1832274000@christchurchcos.com
SUMMARY:Potluck and Evensong
DESCRIPTION:A form of Evensong is held at 5:30 PM on Sunday evenings at one of our members’ homes. Please contact vicar@christchurchcos.com for more information. The service itself begins at 6:00 PM following the 5:30 PM fellowship meal. We close the evening with a time of discussion and study. All interested are welcome. This is a great opportunity to get to know Anglicanism and ask questions for those not ready to join with us in a worship service – or just join us for the fellowship.
URL:https://christchurchcos.com/calendar/potluck-and-evensong-5/2028-01-23/
LOCATION:CO
ATTACH;FMTTYPE=image/jpeg:https://christchurchcos.com/wp-content/uploads/2025/04/evansong.jpg
END:VEVENT
BEGIN:VEVENT
DTSTART;TZID=America/Denver:20280124T190000
DTEND;TZID=America/Denver:20280124T210000
DTSTAMP:20260420T152122
CREATED:20251103T000757Z
LAST-MODIFIED:20260315T011954Z
UID:10004284-1832353200-1832360400@christchurchcos.com
SUMMARY:Ladies' Study and Fellowship
DESCRIPTION:Join us for a no-prep study of Through New Eyes by James B. Jordan\, snacks\, and fellowship. \nContact vicar@christchurchcos.com for location and directions.
URL:https://christchurchcos.com/calendar/ladies-study-and-fellowship-2-2-2/2028-01-24/
LOCATION:CO
ATTACH;FMTTYPE=image/jpeg:https://christchurchcos.com/wp-content/uploads/2025/05/pexels-emily-252615-768125-scaled.jpg
END:VEVENT
BEGIN:VEVENT
DTSTART;TZID=America/Denver:20280126T183000
DTEND;TZID=America/Denver:20280126T200000
DTSTAMP:20260420T152122
CREATED:20251103T000244Z
LAST-MODIFIED:20260407T135654Z
UID:10003922-1832524200-1832529600@christchurchcos.com
SUMMARY:Wednesday Evensong/Children's Choir Practice
DESCRIPTION:
URL:https://christchurchcos.com/calendar/evensong-and-study-2-2-4/2028-01-26/
LOCATION:Christ Church Anglican\, Christ Church Anglican\, 625 1st Street\, Colorado Springs\, CO\, 80907\, United States
ATTACH;FMTTYPE=image/jpeg:https://christchurchcos.com/wp-content/uploads/2025/04/DSC_06331.jpeg
END:VEVENT
BEGIN:VEVENT
DTSTART;TZID=America/Denver:20280130T100000
DTEND;TZID=America/Denver:20280130T110000
DTSTAMP:20260420T152122
CREATED:20251031T185629Z
LAST-MODIFIED:20251102T093109Z
UID:10007269-1832839200-1832842800@christchurchcos.com
SUMMARY:Holy Communion
DESCRIPTION:Morning Worship with a Eucharist Service is held every Sunday morning at 10:00 AM with sermon and hymns. Children are welcome in the service\, but there are also quiet spaces available for those who may need extra attention.
URL:https://christchurchcos.com/calendar/holy-communion-4/2028-01-30/
LOCATION:Christ Church Anglican\, Christ Church Anglican\, 625 1st Street\, Colorado Springs\, CO\, 80907\, United States
ATTACH;FMTTYPE=image/jpeg:https://christchurchcos.com/wp-content/uploads/2025/04/holycommunion.jpg
END:VEVENT
BEGIN:VEVENT
DTSTART;TZID=America/Denver:20280130T113000
DTEND;TZID=America/Denver:20280130T123000
DTSTAMP:20260420T152122
CREATED:20251103T001928Z
LAST-MODIFIED:20251103T001929Z
UID:10004745-1832844600-1832848200@christchurchcos.com
SUMMARY:Catechesis
DESCRIPTION:Adult and children’s classes will follow coffee hour.
URL:https://christchurchcos.com/calendar/catechesis-15-2-2/2028-01-30/
LOCATION:Christ Church Anglican\, Christ Church Anglican\, 625 1st Street\, Colorado Springs\, CO\, 80907\, United States
ATTACH;FMTTYPE=image/jpeg:https://christchurchcos.com/wp-content/uploads/2025/04/001.jpg
END:VEVENT
BEGIN:VEVENT
DTSTART;TZID=America/Denver:20280130T173000
DTEND;TZID=America/Denver:20280130T210000
DTSTAMP:20260420T152122
CREATED:20251103T000142Z
LAST-MODIFIED:20251103T000142Z
UID:10003128-1832866200-1832878800@christchurchcos.com
SUMMARY:Potluck and Evensong
DESCRIPTION:A form of Evensong is held at 5:30 PM on Sunday evenings at one of our members’ homes. Please contact vicar@christchurchcos.com for more information. The service itself begins at 6:00 PM following the 5:30 PM fellowship meal. We close the evening with a time of discussion and study. All interested are welcome. This is a great opportunity to get to know Anglicanism and ask questions for those not ready to join with us in a worship service – or just join us for the fellowship.
URL:https://christchurchcos.com/calendar/potluck-and-evensong-5/2028-01-30/
LOCATION:CO
ATTACH;FMTTYPE=image/jpeg:https://christchurchcos.com/wp-content/uploads/2025/04/evansong.jpg
END:VEVENT
BEGIN:VEVENT
DTSTART;TZID=America/Denver:20280202T183000
DTEND;TZID=America/Denver:20280202T200000
DTSTAMP:20260420T152122
CREATED:20251103T000244Z
LAST-MODIFIED:20260407T135654Z
UID:10003923-1833129000-1833134400@christchurchcos.com
SUMMARY:Wednesday Evensong/Children's Choir Practice
DESCRIPTION:
URL:https://christchurchcos.com/calendar/evensong-and-study-2-2-4/2028-02-02/
LOCATION:Christ Church Anglican\, Christ Church Anglican\, 625 1st Street\, Colorado Springs\, CO\, 80907\, United States
ATTACH;FMTTYPE=image/jpeg:https://christchurchcos.com/wp-content/uploads/2025/04/DSC_06331.jpeg
END:VEVENT
BEGIN:VEVENT
DTSTART;TZID=America/Denver:20280206T100000
DTEND;TZID=America/Denver:20280206T110000
DTSTAMP:20260420T152122
CREATED:20251031T185629Z
LAST-MODIFIED:20251102T093109Z
UID:10007270-1833444000-1833447600@christchurchcos.com
SUMMARY:Holy Communion
DESCRIPTION:Morning Worship with a Eucharist Service is held every Sunday morning at 10:00 AM with sermon and hymns. Children are welcome in the service\, but there are also quiet spaces available for those who may need extra attention.
URL:https://christchurchcos.com/calendar/holy-communion-4/2028-02-06/
LOCATION:Christ Church Anglican\, Christ Church Anglican\, 625 1st Street\, Colorado Springs\, CO\, 80907\, United States
ATTACH;FMTTYPE=image/jpeg:https://christchurchcos.com/wp-content/uploads/2025/04/holycommunion.jpg
END:VEVENT
BEGIN:VEVENT
DTSTART;TZID=America/Denver:20280206T113000
DTEND;TZID=America/Denver:20280206T123000
DTSTAMP:20260420T152122
CREATED:20251103T001928Z
LAST-MODIFIED:20251103T001929Z
UID:10004746-1833449400-1833453000@christchurchcos.com
SUMMARY:Catechesis
DESCRIPTION:Adult and children’s classes will follow coffee hour.
URL:https://christchurchcos.com/calendar/catechesis-15-2-2/2028-02-06/
LOCATION:Christ Church Anglican\, Christ Church Anglican\, 625 1st Street\, Colorado Springs\, CO\, 80907\, United States
ATTACH;FMTTYPE=image/jpeg:https://christchurchcos.com/wp-content/uploads/2025/04/001.jpg
END:VEVENT
BEGIN:VEVENT
DTSTART;TZID=America/Denver:20280206T173000
DTEND;TZID=America/Denver:20280206T210000
DTSTAMP:20260420T152122
CREATED:20251103T000142Z
LAST-MODIFIED:20251103T000142Z
UID:10003129-1833471000-1833483600@christchurchcos.com
SUMMARY:Potluck and Evensong
DESCRIPTION:A form of Evensong is held at 5:30 PM on Sunday evenings at one of our members’ homes. Please contact vicar@christchurchcos.com for more information. The service itself begins at 6:00 PM following the 5:30 PM fellowship meal. We close the evening with a time of discussion and study. All interested are welcome. This is a great opportunity to get to know Anglicanism and ask questions for those not ready to join with us in a worship service – or just join us for the fellowship.
URL:https://christchurchcos.com/calendar/potluck-and-evensong-5/2028-02-06/
LOCATION:CO
ATTACH;FMTTYPE=image/jpeg:https://christchurchcos.com/wp-content/uploads/2025/04/evansong.jpg
END:VEVENT
BEGIN:VEVENT
DTSTART;TZID=America/Denver:20280209T183000
DTEND;TZID=America/Denver:20280209T200000
DTSTAMP:20260420T152122
CREATED:20251103T000244Z
LAST-MODIFIED:20260407T135654Z
UID:10003924-1833733800-1833739200@christchurchcos.com
SUMMARY:Wednesday Evensong/Children's Choir Practice
DESCRIPTION:
URL:https://christchurchcos.com/calendar/evensong-and-study-2-2-4/2028-02-09/
LOCATION:Christ Church Anglican\, Christ Church Anglican\, 625 1st Street\, Colorado Springs\, CO\, 80907\, United States
ATTACH;FMTTYPE=image/jpeg:https://christchurchcos.com/wp-content/uploads/2025/04/DSC_06331.jpeg
END:VEVENT
BEGIN:VEVENT
DTSTART;TZID=America/Denver:20280212T073000
DTEND;TZID=America/Denver:20280212T090000
DTSTAMP:20260420T152122
CREATED:20260313T214323Z
LAST-MODIFIED:20260407T135826Z
UID:10007762-1833953400-1833958800@christchurchcos.com
SUMMARY:Life and Liturgy
DESCRIPTION:Join us as we read through and discuss Letters to a Diminished Church by Dorothy L. Sayers at Boonzaaijer’s Dutch Bakery.
URL:https://christchurchcos.com/calendar/mens-fellowship-and-study-2-2-2/2028-02-12/
LOCATION:Boonzaaijer’s Dutch Bakery\, Boonzaaijer's Dutch Bakery\, 610 East Fillmore Street\, Colorado Springs\, CO\, 80907\, United States
ATTACH;FMTTYPE=image/jpeg:https://christchurchcos.com/wp-content/uploads/2025/05/pexels-caio-46274-scaled.jpg
END:VEVENT
BEGIN:VEVENT
DTSTART;TZID=America/Denver:20280212T073000
DTEND;TZID=America/Denver:20280212T090000
DTSTAMP:20260420T152122
CREATED:20260407T135747Z
LAST-MODIFIED:20260407T135748Z
UID:10007473-1833953400-1833958800@christchurchcos.com
SUMMARY:Life and Liturgy
DESCRIPTION:Join us as we read through and discuss Letters to a Diminished Church by Dorothy L. Sayers at Boonzaaijer’s Dutch Bakery.
URL:https://christchurchcos.com/calendar/mens-fellowship-and-study-2-2-2-2/2028-02-12/
LOCATION:Boonzaaijer’s Dutch Bakery\, Boonzaaijer's Dutch Bakery\, 610 East Fillmore Street\, Colorado Springs\, CO\, 80907\, United States
ATTACH;FMTTYPE=image/jpeg:https://christchurchcos.com/wp-content/uploads/2025/05/pexels-caio-46274-scaled.jpg
END:VEVENT
BEGIN:VEVENT
DTSTART;TZID=America/Denver:20280213T100000
DTEND;TZID=America/Denver:20280213T110000
DTSTAMP:20260420T152122
CREATED:20251031T185629Z
LAST-MODIFIED:20251102T093109Z
UID:10007271-1834048800-1834052400@christchurchcos.com
SUMMARY:Holy Communion
DESCRIPTION:Morning Worship with a Eucharist Service is held every Sunday morning at 10:00 AM with sermon and hymns. Children are welcome in the service\, but there are also quiet spaces available for those who may need extra attention.
URL:https://christchurchcos.com/calendar/holy-communion-4/2028-02-13/
LOCATION:Christ Church Anglican\, Christ Church Anglican\, 625 1st Street\, Colorado Springs\, CO\, 80907\, United States
ATTACH;FMTTYPE=image/jpeg:https://christchurchcos.com/wp-content/uploads/2025/04/holycommunion.jpg
END:VEVENT
BEGIN:VEVENT
DTSTART;TZID=America/Denver:20280213T113000
DTEND;TZID=America/Denver:20280213T123000
DTSTAMP:20260420T152122
CREATED:20251103T001928Z
LAST-MODIFIED:20251103T001929Z
UID:10004747-1834054200-1834057800@christchurchcos.com
SUMMARY:Catechesis
DESCRIPTION:Adult and children’s classes will follow coffee hour.
URL:https://christchurchcos.com/calendar/catechesis-15-2-2/2028-02-13/
LOCATION:Christ Church Anglican\, Christ Church Anglican\, 625 1st Street\, Colorado Springs\, CO\, 80907\, United States
ATTACH;FMTTYPE=image/jpeg:https://christchurchcos.com/wp-content/uploads/2025/04/001.jpg
END:VEVENT
BEGIN:VEVENT
DTSTART;TZID=America/Denver:20280213T173000
DTEND;TZID=America/Denver:20280213T210000
DTSTAMP:20260420T152122
CREATED:20251103T000142Z
LAST-MODIFIED:20251103T000142Z
UID:10003130-1834075800-1834088400@christchurchcos.com
SUMMARY:Potluck and Evensong
DESCRIPTION:A form of Evensong is held at 5:30 PM on Sunday evenings at one of our members’ homes. Please contact vicar@christchurchcos.com for more information. The service itself begins at 6:00 PM following the 5:30 PM fellowship meal. We close the evening with a time of discussion and study. All interested are welcome. This is a great opportunity to get to know Anglicanism and ask questions for those not ready to join with us in a worship service – or just join us for the fellowship.
URL:https://christchurchcos.com/calendar/potluck-and-evensong-5/2028-02-13/
LOCATION:CO
ATTACH;FMTTYPE=image/jpeg:https://christchurchcos.com/wp-content/uploads/2025/04/evansong.jpg
END:VEVENT
BEGIN:VEVENT
DTSTART;TZID=America/Denver:20280214T190000
DTEND;TZID=America/Denver:20280214T210000
DTSTAMP:20260420T152122
CREATED:20251103T000757Z
LAST-MODIFIED:20260315T011954Z
UID:10004286-1834167600-1834174800@christchurchcos.com
SUMMARY:Ladies' Study and Fellowship
DESCRIPTION:Join us for a no-prep study of Through New Eyes by James B. Jordan\, snacks\, and fellowship. \nContact vicar@christchurchcos.com for location and directions.
URL:https://christchurchcos.com/calendar/ladies-study-and-fellowship-2-2-2/2028-02-14/
LOCATION:CO
ATTACH;FMTTYPE=image/jpeg:https://christchurchcos.com/wp-content/uploads/2025/05/pexels-emily-252615-768125-scaled.jpg
END:VEVENT
BEGIN:VEVENT
DTSTART;TZID=America/Denver:20280216T183000
DTEND;TZID=America/Denver:20280216T200000
DTSTAMP:20260420T152122
CREATED:20251103T000244Z
LAST-MODIFIED:20260407T135654Z
UID:10003925-1834338600-1834344000@christchurchcos.com
SUMMARY:Wednesday Evensong/Children's Choir Practice
DESCRIPTION:
URL:https://christchurchcos.com/calendar/evensong-and-study-2-2-4/2028-02-16/
LOCATION:Christ Church Anglican\, Christ Church Anglican\, 625 1st Street\, Colorado Springs\, CO\, 80907\, United States
ATTACH;FMTTYPE=image/jpeg:https://christchurchcos.com/wp-content/uploads/2025/04/DSC_06331.jpeg
END:VEVENT
BEGIN:VEVENT
DTSTART;TZID=America/Denver:20280220T100000
DTEND;TZID=America/Denver:20280220T110000
DTSTAMP:20260420T152122
CREATED:20251031T185629Z
LAST-MODIFIED:20251102T093109Z
UID:10007272-1834653600-1834657200@christchurchcos.com
SUMMARY:Holy Communion
DESCRIPTION:Morning Worship with a Eucharist Service is held every Sunday morning at 10:00 AM with sermon and hymns. Children are welcome in the service\, but there are also quiet spaces available for those who may need extra attention.
URL:https://christchurchcos.com/calendar/holy-communion-4/2028-02-20/
LOCATION:Christ Church Anglican\, Christ Church Anglican\, 625 1st Street\, Colorado Springs\, CO\, 80907\, United States
ATTACH;FMTTYPE=image/jpeg:https://christchurchcos.com/wp-content/uploads/2025/04/holycommunion.jpg
END:VEVENT
BEGIN:VEVENT
DTSTART;TZID=America/Denver:20280220T113000
DTEND;TZID=America/Denver:20280220T123000
DTSTAMP:20260420T152122
CREATED:20251103T001928Z
LAST-MODIFIED:20251103T001929Z
UID:10004748-1834659000-1834662600@christchurchcos.com
SUMMARY:Catechesis
DESCRIPTION:Adult and children’s classes will follow coffee hour.
URL:https://christchurchcos.com/calendar/catechesis-15-2-2/2028-02-20/
LOCATION:Christ Church Anglican\, Christ Church Anglican\, 625 1st Street\, Colorado Springs\, CO\, 80907\, United States
ATTACH;FMTTYPE=image/jpeg:https://christchurchcos.com/wp-content/uploads/2025/04/001.jpg
END:VEVENT
BEGIN:VEVENT
DTSTART;TZID=America/Denver:20280220T173000
DTEND;TZID=America/Denver:20280220T210000
DTSTAMP:20260420T152122
CREATED:20251103T000142Z
LAST-MODIFIED:20251103T000142Z
UID:10003131-1834680600-1834693200@christchurchcos.com
SUMMARY:Potluck and Evensong
DESCRIPTION:A form of Evensong is held at 5:30 PM on Sunday evenings at one of our members’ homes. Please contact vicar@christchurchcos.com for more information. The service itself begins at 6:00 PM following the 5:30 PM fellowship meal. We close the evening with a time of discussion and study. All interested are welcome. This is a great opportunity to get to know Anglicanism and ask questions for those not ready to join with us in a worship service – or just join us for the fellowship.
URL:https://christchurchcos.com/calendar/potluck-and-evensong-5/2028-02-20/
LOCATION:CO
ATTACH;FMTTYPE=image/jpeg:https://christchurchcos.com/wp-content/uploads/2025/04/evansong.jpg
END:VEVENT
BEGIN:VEVENT
DTSTART;TZID=America/Denver:20280223T183000
DTEND;TZID=America/Denver:20280223T200000
DTSTAMP:20260420T152122
CREATED:20251103T000244Z
LAST-MODIFIED:20260407T135654Z
UID:10003926-1834943400-1834948800@christchurchcos.com
SUMMARY:Wednesday Evensong/Children's Choir Practice
DESCRIPTION:
URL:https://christchurchcos.com/calendar/evensong-and-study-2-2-4/2028-02-23/
LOCATION:Christ Church Anglican\, Christ Church Anglican\, 625 1st Street\, Colorado Springs\, CO\, 80907\, United States
ATTACH;FMTTYPE=image/jpeg:https://christchurchcos.com/wp-content/uploads/2025/04/DSC_06331.jpeg
END:VEVENT
BEGIN:VEVENT
DTSTART;TZID=America/Denver:20280226T073000
DTEND;TZID=America/Denver:20280226T090000
DTSTAMP:20260420T152122
CREATED:20260313T214323Z
LAST-MODIFIED:20260407T135826Z
UID:10007763-1835163000-1835168400@christchurchcos.com
SUMMARY:Life and Liturgy
DESCRIPTION:Join us as we read through and discuss Letters to a Diminished Church by Dorothy L. Sayers at Boonzaaijer’s Dutch Bakery.
URL:https://christchurchcos.com/calendar/mens-fellowship-and-study-2-2-2/2028-02-26/
LOCATION:Boonzaaijer’s Dutch Bakery\, Boonzaaijer's Dutch Bakery\, 610 East Fillmore Street\, Colorado Springs\, CO\, 80907\, United States
ATTACH;FMTTYPE=image/jpeg:https://christchurchcos.com/wp-content/uploads/2025/05/pexels-caio-46274-scaled.jpg
END:VEVENT
BEGIN:VEVENT
DTSTART;TZID=America/Denver:20280226T073000
DTEND;TZID=America/Denver:20280226T090000
DTSTAMP:20260420T152122
CREATED:20260407T135747Z
LAST-MODIFIED:20260407T135748Z
UID:10007474-1835163000-1835168400@christchurchcos.com
SUMMARY:Life and Liturgy
DESCRIPTION:Join us as we read through and discuss Letters to a Diminished Church by Dorothy L. Sayers at Boonzaaijer’s Dutch Bakery.
URL:https://christchurchcos.com/calendar/mens-fellowship-and-study-2-2-2-2/2028-02-26/
LOCATION:Boonzaaijer’s Dutch Bakery\, Boonzaaijer's Dutch Bakery\, 610 East Fillmore Street\, Colorado Springs\, CO\, 80907\, United States
ATTACH;FMTTYPE=image/jpeg:https://christchurchcos.com/wp-content/uploads/2025/05/pexels-caio-46274-scaled.jpg
END:VEVENT
BEGIN:VEVENT
DTSTART;TZID=America/Denver:20280227T100000
DTEND;TZID=America/Denver:20280227T110000
DTSTAMP:20260420T152122
CREATED:20251031T185629Z
LAST-MODIFIED:20251102T093109Z
UID:10007273-1835258400-1835262000@christchurchcos.com
SUMMARY:Holy Communion
DESCRIPTION:Morning Worship with a Eucharist Service is held every Sunday morning at 10:00 AM with sermon and hymns. Children are welcome in the service\, but there are also quiet spaces available for those who may need extra attention.
URL:https://christchurchcos.com/calendar/holy-communion-4/2028-02-27/
LOCATION:Christ Church Anglican\, Christ Church Anglican\, 625 1st Street\, Colorado Springs\, CO\, 80907\, United States
ATTACH;FMTTYPE=image/jpeg:https://christchurchcos.com/wp-content/uploads/2025/04/holycommunion.jpg
END:VEVENT
BEGIN:VEVENT
DTSTART;TZID=America/Denver:20280227T113000
DTEND;TZID=America/Denver:20280227T123000
DTSTAMP:20260420T152123
CREATED:20251103T001928Z
LAST-MODIFIED:20251103T001929Z
UID:10004749-1835263800-1835267400@christchurchcos.com
SUMMARY:Catechesis
DESCRIPTION:Adult and children’s classes will follow coffee hour.
URL:https://christchurchcos.com/calendar/catechesis-15-2-2/2028-02-27/
LOCATION:Christ Church Anglican\, Christ Church Anglican\, 625 1st Street\, Colorado Springs\, CO\, 80907\, United States
ATTACH;FMTTYPE=image/jpeg:https://christchurchcos.com/wp-content/uploads/2025/04/001.jpg
END:VEVENT
BEGIN:VEVENT
DTSTART;TZID=America/Denver:20280227T173000
DTEND;TZID=America/Denver:20280227T210000
DTSTAMP:20260420T152123
CREATED:20251103T000142Z
LAST-MODIFIED:20251103T000142Z
UID:10003132-1835285400-1835298000@christchurchcos.com
SUMMARY:Potluck and Evensong
DESCRIPTION:A form of Evensong is held at 5:30 PM on Sunday evenings at one of our members’ homes. Please contact vicar@christchurchcos.com for more information. The service itself begins at 6:00 PM following the 5:30 PM fellowship meal. We close the evening with a time of discussion and study. All interested are welcome. This is a great opportunity to get to know Anglicanism and ask questions for those not ready to join with us in a worship service – or just join us for the fellowship.
URL:https://christchurchcos.com/calendar/potluck-and-evensong-5/2028-02-27/
LOCATION:CO
ATTACH;FMTTYPE=image/jpeg:https://christchurchcos.com/wp-content/uploads/2025/04/evansong.jpg
END:VEVENT
END:VCALENDAR