BEGIN:VCALENDAR
VERSION:2.0
PRODID:-//Christ Church Anglican - ECPv6.15.20//NONSGML v1.0//EN
CALSCALE:GREGORIAN
METHOD:PUBLISH
X-WR-CALNAME:Christ Church Anglican
X-ORIGINAL-URL:https://christchurchcos.com
X-WR-CALDESC:Events for Christ Church Anglican
REFRESH-INTERVAL;VALUE=DURATION:PT1H
X-Robots-Tag:noindex
X-PUBLISHED-TTL:PT1H
BEGIN:VTIMEZONE
TZID:America/Denver
BEGIN:DAYLIGHT
TZOFFSETFROM:-0700
TZOFFSETTO:-0600
TZNAME:MDT
DTSTART:20270314T090000
END:DAYLIGHT
BEGIN:STANDARD
TZOFFSETFROM:-0600
TZOFFSETTO:-0700
TZNAME:MST
DTSTART:20271107T080000
END:STANDARD
BEGIN:DAYLIGHT
TZOFFSETFROM:-0700
TZOFFSETTO:-0600
TZNAME:MDT
DTSTART:20280312T090000
END:DAYLIGHT
BEGIN:STANDARD
TZOFFSETFROM:-0600
TZOFFSETTO:-0700
TZNAME:MST
DTSTART:20281105T080000
END:STANDARD
BEGIN:DAYLIGHT
TZOFFSETFROM:-0700
TZOFFSETTO:-0600
TZNAME:MDT
DTSTART:20290311T090000
END:DAYLIGHT
BEGIN:STANDARD
TZOFFSETFROM:-0600
TZOFFSETTO:-0700
TZNAME:MST
DTSTART:20291104T080000
END:STANDARD
END:VTIMEZONE
BEGIN:VEVENT
DTSTART;TZID=America/Denver:20280624T073000
DTEND;TZID=America/Denver:20280624T090000
DTSTAMP:20260425T172407
CREATED:20260313T214323Z
LAST-MODIFIED:20260407T135826Z
UID:10007771-1845444600-1845450000@christchurchcos.com
SUMMARY:Life and Liturgy
DESCRIPTION:Join us as we read through and discuss Letters to a Diminished Church by Dorothy L. Sayers at Boonzaaijer’s Dutch Bakery.
URL:https://christchurchcos.com/calendar/mens-fellowship-and-study-2-2-2/2028-06-24/
LOCATION:Boonzaaijer’s Dutch Bakery\, Boonzaaijer's Dutch Bakery\, 610 East Fillmore Street\, Colorado Springs\, CO\, 80907\, United States
ATTACH;FMTTYPE=image/jpeg:https://christchurchcos.com/wp-content/uploads/2025/05/pexels-caio-46274-scaled.jpg
END:VEVENT
BEGIN:VEVENT
DTSTART;TZID=America/Denver:20280624T073000
DTEND;TZID=America/Denver:20280624T090000
DTSTAMP:20260425T172407
CREATED:20260407T135747Z
LAST-MODIFIED:20260407T135748Z
UID:10007482-1845444600-1845450000@christchurchcos.com
SUMMARY:Life and Liturgy
DESCRIPTION:Join us as we read through and discuss Letters to a Diminished Church by Dorothy L. Sayers at Boonzaaijer’s Dutch Bakery.
URL:https://christchurchcos.com/calendar/mens-fellowship-and-study-2-2-2-2/2028-06-24/
LOCATION:Boonzaaijer’s Dutch Bakery\, Boonzaaijer's Dutch Bakery\, 610 East Fillmore Street\, Colorado Springs\, CO\, 80907\, United States
ATTACH;FMTTYPE=image/jpeg:https://christchurchcos.com/wp-content/uploads/2025/05/pexels-caio-46274-scaled.jpg
END:VEVENT
BEGIN:VEVENT
DTSTART;TZID=America/Denver:20280625T100000
DTEND;TZID=America/Denver:20280625T110000
DTSTAMP:20260425T172407
CREATED:20251031T185629Z
LAST-MODIFIED:20251102T093109Z
UID:10007290-1845540000-1845543600@christchurchcos.com
SUMMARY:Holy Communion
DESCRIPTION:Morning Worship with a Eucharist Service is held every Sunday morning at 10:00 AM with sermon and hymns. Children are welcome in the service\, but there are also quiet spaces available for those who may need extra attention.
URL:https://christchurchcos.com/calendar/holy-communion-4/2028-06-25/
LOCATION:Christ Church Anglican\, Christ Church Anglican\, 625 1st Street\, Colorado Springs\, CO\, 80907\, United States
ATTACH;FMTTYPE=image/jpeg:https://christchurchcos.com/wp-content/uploads/2025/04/holycommunion.jpg
END:VEVENT
BEGIN:VEVENT
DTSTART;TZID=America/Denver:20280625T113000
DTEND;TZID=America/Denver:20280625T123000
DTSTAMP:20260425T172407
CREATED:20251103T001928Z
LAST-MODIFIED:20251103T001929Z
UID:10004766-1845545400-1845549000@christchurchcos.com
SUMMARY:Catechesis
DESCRIPTION:Adult and children’s classes will follow coffee hour.
URL:https://christchurchcos.com/calendar/catechesis-15-2-2/2028-06-25/
LOCATION:Christ Church Anglican\, Christ Church Anglican\, 625 1st Street\, Colorado Springs\, CO\, 80907\, United States
ATTACH;FMTTYPE=image/jpeg:https://christchurchcos.com/wp-content/uploads/2025/04/001.jpg
END:VEVENT
BEGIN:VEVENT
DTSTART;TZID=America/Denver:20280625T173000
DTEND;TZID=America/Denver:20280625T210000
DTSTAMP:20260425T172407
CREATED:20251103T000142Z
LAST-MODIFIED:20251103T000142Z
UID:10003149-1845567000-1845579600@christchurchcos.com
SUMMARY:Potluck and Evensong
DESCRIPTION:A form of Evensong is held at 5:30 PM on Sunday evenings at one of our members’ homes. Please contact vicar@christchurchcos.com for more information. The service itself begins at 6:00 PM following the 5:30 PM fellowship meal. We close the evening with a time of discussion and study. All interested are welcome. This is a great opportunity to get to know Anglicanism and ask questions for those not ready to join with us in a worship service – or just join us for the fellowship.
URL:https://christchurchcos.com/calendar/potluck-and-evensong-5/2028-06-25/
ATTACH;FMTTYPE=image/jpeg:https://christchurchcos.com/wp-content/uploads/2025/04/evansong.jpg
END:VEVENT
BEGIN:VEVENT
DTSTART;TZID=America/Denver:20280626T190000
DTEND;TZID=America/Denver:20280626T210000
DTSTAMP:20260425T172407
CREATED:20251103T000757Z
LAST-MODIFIED:20260315T011954Z
UID:10004296-1845658800-1845666000@christchurchcos.com
SUMMARY:Ladies' Study and Fellowship
DESCRIPTION:Join us for a no-prep study of Through New Eyes by James B. Jordan\, snacks\, and fellowship. \nContact vicar@christchurchcos.com for location and directions.
URL:https://christchurchcos.com/calendar/ladies-study-and-fellowship-2-2-2/2028-06-26/
ATTACH;FMTTYPE=image/jpeg:https://christchurchcos.com/wp-content/uploads/2025/05/pexels-emily-252615-768125-scaled.jpg
END:VEVENT
BEGIN:VEVENT
DTSTART;TZID=America/Denver:20280628T183000
DTEND;TZID=America/Denver:20280628T200000
DTSTAMP:20260425T172407
CREATED:20251103T000244Z
LAST-MODIFIED:20260407T135654Z
UID:10003944-1845829800-1845835200@christchurchcos.com
SUMMARY:Wednesday Evensong/Children's Choir Practice
DESCRIPTION:
URL:https://christchurchcos.com/calendar/evensong-and-study-2-2-4/2028-06-28/
LOCATION:Christ Church Anglican\, Christ Church Anglican\, 625 1st Street\, Colorado Springs\, CO\, 80907\, United States
ATTACH;FMTTYPE=image/jpeg:https://christchurchcos.com/wp-content/uploads/2025/04/DSC_06331.jpeg
END:VEVENT
BEGIN:VEVENT
DTSTART;TZID=America/Denver:20280702T100000
DTEND;TZID=America/Denver:20280702T110000
DTSTAMP:20260425T172407
CREATED:20251031T185629Z
LAST-MODIFIED:20251102T093109Z
UID:10007291-1846144800-1846148400@christchurchcos.com
SUMMARY:Holy Communion
DESCRIPTION:Morning Worship with a Eucharist Service is held every Sunday morning at 10:00 AM with sermon and hymns. Children are welcome in the service\, but there are also quiet spaces available for those who may need extra attention.
URL:https://christchurchcos.com/calendar/holy-communion-4/2028-07-02/
LOCATION:Christ Church Anglican\, Christ Church Anglican\, 625 1st Street\, Colorado Springs\, CO\, 80907\, United States
ATTACH;FMTTYPE=image/jpeg:https://christchurchcos.com/wp-content/uploads/2025/04/holycommunion.jpg
END:VEVENT
BEGIN:VEVENT
DTSTART;TZID=America/Denver:20280702T113000
DTEND;TZID=America/Denver:20280702T123000
DTSTAMP:20260425T172407
CREATED:20251103T001928Z
LAST-MODIFIED:20251103T001929Z
UID:10004767-1846150200-1846153800@christchurchcos.com
SUMMARY:Catechesis
DESCRIPTION:Adult and children’s classes will follow coffee hour.
URL:https://christchurchcos.com/calendar/catechesis-15-2-2/2028-07-02/
LOCATION:Christ Church Anglican\, Christ Church Anglican\, 625 1st Street\, Colorado Springs\, CO\, 80907\, United States
ATTACH;FMTTYPE=image/jpeg:https://christchurchcos.com/wp-content/uploads/2025/04/001.jpg
END:VEVENT
BEGIN:VEVENT
DTSTART;TZID=America/Denver:20280702T173000
DTEND;TZID=America/Denver:20280702T210000
DTSTAMP:20260425T172407
CREATED:20251103T000142Z
LAST-MODIFIED:20251103T000142Z
UID:10003150-1846171800-1846184400@christchurchcos.com
SUMMARY:Potluck and Evensong
DESCRIPTION:A form of Evensong is held at 5:30 PM on Sunday evenings at one of our members’ homes. Please contact vicar@christchurchcos.com for more information. The service itself begins at 6:00 PM following the 5:30 PM fellowship meal. We close the evening with a time of discussion and study. All interested are welcome. This is a great opportunity to get to know Anglicanism and ask questions for those not ready to join with us in a worship service – or just join us for the fellowship.
URL:https://christchurchcos.com/calendar/potluck-and-evensong-5/2028-07-02/
ATTACH;FMTTYPE=image/jpeg:https://christchurchcos.com/wp-content/uploads/2025/04/evansong.jpg
END:VEVENT
BEGIN:VEVENT
DTSTART;TZID=America/Denver:20280705T183000
DTEND;TZID=America/Denver:20280705T200000
DTSTAMP:20260425T172407
CREATED:20251103T000244Z
LAST-MODIFIED:20260407T135654Z
UID:10003945-1846434600-1846440000@christchurchcos.com
SUMMARY:Wednesday Evensong/Children's Choir Practice
DESCRIPTION:
URL:https://christchurchcos.com/calendar/evensong-and-study-2-2-4/2028-07-05/
LOCATION:Christ Church Anglican\, Christ Church Anglican\, 625 1st Street\, Colorado Springs\, CO\, 80907\, United States
ATTACH;FMTTYPE=image/jpeg:https://christchurchcos.com/wp-content/uploads/2025/04/DSC_06331.jpeg
END:VEVENT
BEGIN:VEVENT
DTSTART;TZID=America/Denver:20280708T073000
DTEND;TZID=America/Denver:20280708T090000
DTSTAMP:20260425T172407
CREATED:20260313T214323Z
LAST-MODIFIED:20260407T135826Z
UID:10007772-1846654200-1846659600@christchurchcos.com
SUMMARY:Life and Liturgy
DESCRIPTION:Join us as we read through and discuss Letters to a Diminished Church by Dorothy L. Sayers at Boonzaaijer’s Dutch Bakery.
URL:https://christchurchcos.com/calendar/mens-fellowship-and-study-2-2-2/2028-07-08/
LOCATION:Boonzaaijer’s Dutch Bakery\, Boonzaaijer's Dutch Bakery\, 610 East Fillmore Street\, Colorado Springs\, CO\, 80907\, United States
ATTACH;FMTTYPE=image/jpeg:https://christchurchcos.com/wp-content/uploads/2025/05/pexels-caio-46274-scaled.jpg
END:VEVENT
BEGIN:VEVENT
DTSTART;TZID=America/Denver:20280708T073000
DTEND;TZID=America/Denver:20280708T090000
DTSTAMP:20260425T172407
CREATED:20260407T135747Z
LAST-MODIFIED:20260407T135748Z
UID:10007483-1846654200-1846659600@christchurchcos.com
SUMMARY:Life and Liturgy
DESCRIPTION:Join us as we read through and discuss Letters to a Diminished Church by Dorothy L. Sayers at Boonzaaijer’s Dutch Bakery.
URL:https://christchurchcos.com/calendar/mens-fellowship-and-study-2-2-2-2/2028-07-08/
LOCATION:Boonzaaijer’s Dutch Bakery\, Boonzaaijer's Dutch Bakery\, 610 East Fillmore Street\, Colorado Springs\, CO\, 80907\, United States
ATTACH;FMTTYPE=image/jpeg:https://christchurchcos.com/wp-content/uploads/2025/05/pexels-caio-46274-scaled.jpg
END:VEVENT
BEGIN:VEVENT
DTSTART;TZID=America/Denver:20280709T100000
DTEND;TZID=America/Denver:20280709T110000
DTSTAMP:20260425T172407
CREATED:20251031T185629Z
LAST-MODIFIED:20251102T093109Z
UID:10007292-1846749600-1846753200@christchurchcos.com
SUMMARY:Holy Communion
DESCRIPTION:Morning Worship with a Eucharist Service is held every Sunday morning at 10:00 AM with sermon and hymns. Children are welcome in the service\, but there are also quiet spaces available for those who may need extra attention.
URL:https://christchurchcos.com/calendar/holy-communion-4/2028-07-09/
LOCATION:Christ Church Anglican\, Christ Church Anglican\, 625 1st Street\, Colorado Springs\, CO\, 80907\, United States
ATTACH;FMTTYPE=image/jpeg:https://christchurchcos.com/wp-content/uploads/2025/04/holycommunion.jpg
END:VEVENT
BEGIN:VEVENT
DTSTART;TZID=America/Denver:20280709T113000
DTEND;TZID=America/Denver:20280709T123000
DTSTAMP:20260425T172407
CREATED:20251103T001928Z
LAST-MODIFIED:20251103T001929Z
UID:10004768-1846755000-1846758600@christchurchcos.com
SUMMARY:Catechesis
DESCRIPTION:Adult and children’s classes will follow coffee hour.
URL:https://christchurchcos.com/calendar/catechesis-15-2-2/2028-07-09/
LOCATION:Christ Church Anglican\, Christ Church Anglican\, 625 1st Street\, Colorado Springs\, CO\, 80907\, United States
ATTACH;FMTTYPE=image/jpeg:https://christchurchcos.com/wp-content/uploads/2025/04/001.jpg
END:VEVENT
BEGIN:VEVENT
DTSTART;TZID=America/Denver:20280709T173000
DTEND;TZID=America/Denver:20280709T210000
DTSTAMP:20260425T172407
CREATED:20251103T000142Z
LAST-MODIFIED:20251103T000142Z
UID:10003151-1846776600-1846789200@christchurchcos.com
SUMMARY:Potluck and Evensong
DESCRIPTION:A form of Evensong is held at 5:30 PM on Sunday evenings at one of our members’ homes. Please contact vicar@christchurchcos.com for more information. The service itself begins at 6:00 PM following the 5:30 PM fellowship meal. We close the evening with a time of discussion and study. All interested are welcome. This is a great opportunity to get to know Anglicanism and ask questions for those not ready to join with us in a worship service – or just join us for the fellowship.
URL:https://christchurchcos.com/calendar/potluck-and-evensong-5/2028-07-09/
ATTACH;FMTTYPE=image/jpeg:https://christchurchcos.com/wp-content/uploads/2025/04/evansong.jpg
END:VEVENT
BEGIN:VEVENT
DTSTART;TZID=America/Denver:20280710T190000
DTEND;TZID=America/Denver:20280710T210000
DTSTAMP:20260425T172407
CREATED:20251103T000757Z
LAST-MODIFIED:20260315T011954Z
UID:10004297-1846868400-1846875600@christchurchcos.com
SUMMARY:Ladies' Study and Fellowship
DESCRIPTION:Join us for a no-prep study of Through New Eyes by James B. Jordan\, snacks\, and fellowship. \nContact vicar@christchurchcos.com for location and directions.
URL:https://christchurchcos.com/calendar/ladies-study-and-fellowship-2-2-2/2028-07-10/
ATTACH;FMTTYPE=image/jpeg:https://christchurchcos.com/wp-content/uploads/2025/05/pexels-emily-252615-768125-scaled.jpg
END:VEVENT
BEGIN:VEVENT
DTSTART;TZID=America/Denver:20280712T183000
DTEND;TZID=America/Denver:20280712T200000
DTSTAMP:20260425T172407
CREATED:20251103T000244Z
LAST-MODIFIED:20260407T135654Z
UID:10003946-1847039400-1847044800@christchurchcos.com
SUMMARY:Wednesday Evensong/Children's Choir Practice
DESCRIPTION:
URL:https://christchurchcos.com/calendar/evensong-and-study-2-2-4/2028-07-12/
LOCATION:Christ Church Anglican\, Christ Church Anglican\, 625 1st Street\, Colorado Springs\, CO\, 80907\, United States
ATTACH;FMTTYPE=image/jpeg:https://christchurchcos.com/wp-content/uploads/2025/04/DSC_06331.jpeg
END:VEVENT
BEGIN:VEVENT
DTSTART;TZID=America/Denver:20280716T100000
DTEND;TZID=America/Denver:20280716T110000
DTSTAMP:20260425T172407
CREATED:20251031T185629Z
LAST-MODIFIED:20251102T093109Z
UID:10007293-1847354400-1847358000@christchurchcos.com
SUMMARY:Holy Communion
DESCRIPTION:Morning Worship with a Eucharist Service is held every Sunday morning at 10:00 AM with sermon and hymns. Children are welcome in the service\, but there are also quiet spaces available for those who may need extra attention.
URL:https://christchurchcos.com/calendar/holy-communion-4/2028-07-16/
LOCATION:Christ Church Anglican\, Christ Church Anglican\, 625 1st Street\, Colorado Springs\, CO\, 80907\, United States
ATTACH;FMTTYPE=image/jpeg:https://christchurchcos.com/wp-content/uploads/2025/04/holycommunion.jpg
END:VEVENT
BEGIN:VEVENT
DTSTART;TZID=America/Denver:20280716T113000
DTEND;TZID=America/Denver:20280716T123000
DTSTAMP:20260425T172407
CREATED:20251103T001928Z
LAST-MODIFIED:20251103T001929Z
UID:10004769-1847359800-1847363400@christchurchcos.com
SUMMARY:Catechesis
DESCRIPTION:Adult and children’s classes will follow coffee hour.
URL:https://christchurchcos.com/calendar/catechesis-15-2-2/2028-07-16/
LOCATION:Christ Church Anglican\, Christ Church Anglican\, 625 1st Street\, Colorado Springs\, CO\, 80907\, United States
ATTACH;FMTTYPE=image/jpeg:https://christchurchcos.com/wp-content/uploads/2025/04/001.jpg
END:VEVENT
BEGIN:VEVENT
DTSTART;TZID=America/Denver:20280716T173000
DTEND;TZID=America/Denver:20280716T210000
DTSTAMP:20260425T172407
CREATED:20251103T000142Z
LAST-MODIFIED:20251103T000142Z
UID:10003152-1847381400-1847394000@christchurchcos.com
SUMMARY:Potluck and Evensong
DESCRIPTION:A form of Evensong is held at 5:30 PM on Sunday evenings at one of our members’ homes. Please contact vicar@christchurchcos.com for more information. The service itself begins at 6:00 PM following the 5:30 PM fellowship meal. We close the evening with a time of discussion and study. All interested are welcome. This is a great opportunity to get to know Anglicanism and ask questions for those not ready to join with us in a worship service – or just join us for the fellowship.
URL:https://christchurchcos.com/calendar/potluck-and-evensong-5/2028-07-16/
ATTACH;FMTTYPE=image/jpeg:https://christchurchcos.com/wp-content/uploads/2025/04/evansong.jpg
END:VEVENT
BEGIN:VEVENT
DTSTART;TZID=America/Denver:20280719T183000
DTEND;TZID=America/Denver:20280719T200000
DTSTAMP:20260425T172407
CREATED:20251103T000244Z
LAST-MODIFIED:20260407T135654Z
UID:10003947-1847644200-1847649600@christchurchcos.com
SUMMARY:Wednesday Evensong/Children's Choir Practice
DESCRIPTION:
URL:https://christchurchcos.com/calendar/evensong-and-study-2-2-4/2028-07-19/
LOCATION:Christ Church Anglican\, Christ Church Anglican\, 625 1st Street\, Colorado Springs\, CO\, 80907\, United States
ATTACH;FMTTYPE=image/jpeg:https://christchurchcos.com/wp-content/uploads/2025/04/DSC_06331.jpeg
END:VEVENT
BEGIN:VEVENT
DTSTART;TZID=America/Denver:20280722T073000
DTEND;TZID=America/Denver:20280722T090000
DTSTAMP:20260425T172407
CREATED:20260313T214323Z
LAST-MODIFIED:20260407T135826Z
UID:10007773-1847863800-1847869200@christchurchcos.com
SUMMARY:Life and Liturgy
DESCRIPTION:Join us as we read through and discuss Letters to a Diminished Church by Dorothy L. Sayers at Boonzaaijer’s Dutch Bakery.
URL:https://christchurchcos.com/calendar/mens-fellowship-and-study-2-2-2/2028-07-22/
LOCATION:Boonzaaijer’s Dutch Bakery\, Boonzaaijer's Dutch Bakery\, 610 East Fillmore Street\, Colorado Springs\, CO\, 80907\, United States
ATTACH;FMTTYPE=image/jpeg:https://christchurchcos.com/wp-content/uploads/2025/05/pexels-caio-46274-scaled.jpg
END:VEVENT
BEGIN:VEVENT
DTSTART;TZID=America/Denver:20280722T073000
DTEND;TZID=America/Denver:20280722T090000
DTSTAMP:20260425T172407
CREATED:20260407T135747Z
LAST-MODIFIED:20260407T135748Z
UID:10007484-1847863800-1847869200@christchurchcos.com
SUMMARY:Life and Liturgy
DESCRIPTION:Join us as we read through and discuss Letters to a Diminished Church by Dorothy L. Sayers at Boonzaaijer’s Dutch Bakery.
URL:https://christchurchcos.com/calendar/mens-fellowship-and-study-2-2-2-2/2028-07-22/
LOCATION:Boonzaaijer’s Dutch Bakery\, Boonzaaijer's Dutch Bakery\, 610 East Fillmore Street\, Colorado Springs\, CO\, 80907\, United States
ATTACH;FMTTYPE=image/jpeg:https://christchurchcos.com/wp-content/uploads/2025/05/pexels-caio-46274-scaled.jpg
END:VEVENT
BEGIN:VEVENT
DTSTART;TZID=America/Denver:20280723T100000
DTEND;TZID=America/Denver:20280723T110000
DTSTAMP:20260425T172407
CREATED:20251031T185629Z
LAST-MODIFIED:20251102T093109Z
UID:10007294-1847959200-1847962800@christchurchcos.com
SUMMARY:Holy Communion
DESCRIPTION:Morning Worship with a Eucharist Service is held every Sunday morning at 10:00 AM with sermon and hymns. Children are welcome in the service\, but there are also quiet spaces available for those who may need extra attention.
URL:https://christchurchcos.com/calendar/holy-communion-4/2028-07-23/
LOCATION:Christ Church Anglican\, Christ Church Anglican\, 625 1st Street\, Colorado Springs\, CO\, 80907\, United States
ATTACH;FMTTYPE=image/jpeg:https://christchurchcos.com/wp-content/uploads/2025/04/holycommunion.jpg
END:VEVENT
BEGIN:VEVENT
DTSTART;TZID=America/Denver:20280723T113000
DTEND;TZID=America/Denver:20280723T123000
DTSTAMP:20260425T172407
CREATED:20251103T001928Z
LAST-MODIFIED:20251103T001929Z
UID:10004770-1847964600-1847968200@christchurchcos.com
SUMMARY:Catechesis
DESCRIPTION:Adult and children’s classes will follow coffee hour.
URL:https://christchurchcos.com/calendar/catechesis-15-2-2/2028-07-23/
LOCATION:Christ Church Anglican\, Christ Church Anglican\, 625 1st Street\, Colorado Springs\, CO\, 80907\, United States
ATTACH;FMTTYPE=image/jpeg:https://christchurchcos.com/wp-content/uploads/2025/04/001.jpg
END:VEVENT
BEGIN:VEVENT
DTSTART;TZID=America/Denver:20280723T173000
DTEND;TZID=America/Denver:20280723T210000
DTSTAMP:20260425T172407
CREATED:20251103T000142Z
LAST-MODIFIED:20251103T000142Z
UID:10003153-1847986200-1847998800@christchurchcos.com
SUMMARY:Potluck and Evensong
DESCRIPTION:A form of Evensong is held at 5:30 PM on Sunday evenings at one of our members’ homes. Please contact vicar@christchurchcos.com for more information. The service itself begins at 6:00 PM following the 5:30 PM fellowship meal. We close the evening with a time of discussion and study. All interested are welcome. This is a great opportunity to get to know Anglicanism and ask questions for those not ready to join with us in a worship service – or just join us for the fellowship.
URL:https://christchurchcos.com/calendar/potluck-and-evensong-5/2028-07-23/
ATTACH;FMTTYPE=image/jpeg:https://christchurchcos.com/wp-content/uploads/2025/04/evansong.jpg
END:VEVENT
BEGIN:VEVENT
DTSTART;TZID=America/Denver:20280724T190000
DTEND;TZID=America/Denver:20280724T210000
DTSTAMP:20260425T172407
CREATED:20251103T000757Z
LAST-MODIFIED:20260315T011954Z
UID:10004298-1848078000-1848085200@christchurchcos.com
SUMMARY:Ladies' Study and Fellowship
DESCRIPTION:Join us for a no-prep study of Through New Eyes by James B. Jordan\, snacks\, and fellowship. \nContact vicar@christchurchcos.com for location and directions.
URL:https://christchurchcos.com/calendar/ladies-study-and-fellowship-2-2-2/2028-07-24/
ATTACH;FMTTYPE=image/jpeg:https://christchurchcos.com/wp-content/uploads/2025/05/pexels-emily-252615-768125-scaled.jpg
END:VEVENT
BEGIN:VEVENT
DTSTART;TZID=America/Denver:20280726T183000
DTEND;TZID=America/Denver:20280726T200000
DTSTAMP:20260425T172407
CREATED:20251103T000244Z
LAST-MODIFIED:20260407T135654Z
UID:10003948-1848249000-1848254400@christchurchcos.com
SUMMARY:Wednesday Evensong/Children's Choir Practice
DESCRIPTION:
URL:https://christchurchcos.com/calendar/evensong-and-study-2-2-4/2028-07-26/
LOCATION:Christ Church Anglican\, Christ Church Anglican\, 625 1st Street\, Colorado Springs\, CO\, 80907\, United States
ATTACH;FMTTYPE=image/jpeg:https://christchurchcos.com/wp-content/uploads/2025/04/DSC_06331.jpeg
END:VEVENT
BEGIN:VEVENT
DTSTART;TZID=America/Denver:20280730T100000
DTEND;TZID=America/Denver:20280730T110000
DTSTAMP:20260425T172407
CREATED:20251031T185629Z
LAST-MODIFIED:20251102T093109Z
UID:10007295-1848564000-1848567600@christchurchcos.com
SUMMARY:Holy Communion
DESCRIPTION:Morning Worship with a Eucharist Service is held every Sunday morning at 10:00 AM with sermon and hymns. Children are welcome in the service\, but there are also quiet spaces available for those who may need extra attention.
URL:https://christchurchcos.com/calendar/holy-communion-4/2028-07-30/
LOCATION:Christ Church Anglican\, Christ Church Anglican\, 625 1st Street\, Colorado Springs\, CO\, 80907\, United States
ATTACH;FMTTYPE=image/jpeg:https://christchurchcos.com/wp-content/uploads/2025/04/holycommunion.jpg
END:VEVENT
END:VCALENDAR