BEGIN:VCALENDAR
VERSION:2.0
PRODID:-//Christ Church Anglican - ECPv6.15.20//NONSGML v1.0//EN
CALSCALE:GREGORIAN
METHOD:PUBLISH
X-ORIGINAL-URL:https://christchurchcos.com
X-WR-CALDESC:Events for Christ Church Anglican
REFRESH-INTERVAL;VALUE=DURATION:PT1H
X-Robots-Tag:noindex
X-PUBLISHED-TTL:PT1H
BEGIN:VTIMEZONE
TZID:America/Denver
BEGIN:DAYLIGHT
TZOFFSETFROM:-0700
TZOFFSETTO:-0600
TZNAME:MDT
DTSTART:20240310T090000
END:DAYLIGHT
BEGIN:STANDARD
TZOFFSETFROM:-0600
TZOFFSETTO:-0700
TZNAME:MST
DTSTART:20241103T080000
END:STANDARD
BEGIN:DAYLIGHT
TZOFFSETFROM:-0700
TZOFFSETTO:-0600
TZNAME:MDT
DTSTART:20250309T090000
END:DAYLIGHT
BEGIN:STANDARD
TZOFFSETFROM:-0600
TZOFFSETTO:-0700
TZNAME:MST
DTSTART:20251102T080000
END:STANDARD
BEGIN:DAYLIGHT
TZOFFSETFROM:-0700
TZOFFSETTO:-0600
TZNAME:MDT
DTSTART:20260308T090000
END:DAYLIGHT
BEGIN:STANDARD
TZOFFSETFROM:-0600
TZOFFSETTO:-0700
TZNAME:MST
DTSTART:20261101T080000
END:STANDARD
END:VTIMEZONE
BEGIN:VEVENT
DTSTART;TZID=America/Denver:20250914T080000
DTEND;TZID=America/Denver:20250914T113000
DTSTAMP:20260419T200855
CREATED:20250906T164901Z
LAST-MODIFIED:20250906T164901Z
UID:10001407-1757836800-1757849400@christchurchcos.com
SUMMARY:Thunderbird Estates Neighborhood Picnic
DESCRIPTION:We will join the Thunderbird Estates parade and picnic beginning at 2pm in lieu of our usual Evensong. Please contact vicar@christchurchcos.com for more information.
URL:https://christchurchcos.com/calendar/potluck-and-evensong-2/
LOCATION:CO
ATTACH;FMTTYPE=image/jpeg:https://christchurchcos.com/wp-content/uploads/2025/04/evansong.jpg
END:VEVENT
BEGIN:VEVENT
DTSTART;TZID=America/Denver:20250914T090000
DTEND;TZID=America/Denver:20250914T100000
DTSTAMP:20260419T200855
CREATED:20250424T012336Z
LAST-MODIFIED:20251031T185427Z
UID:10006623-1757840400-1757844000@christchurchcos.com
SUMMARY:Holy Communion
DESCRIPTION:Morning Worship with a Eucharist Service is held every Sunday morning at 10:00 AM with sermon and hymns. Children are welcome in the service\, but there are also quiet spaces available for those who may need extra attention.
URL:https://christchurchcos.com/calendar/holy-communion/2025-09-14/
LOCATION:Christ Church Anglican\, Christ Church Anglican\, 625 1st Street\, Colorado Springs\, CO\, 80907\, United States
ATTACH;FMTTYPE=image/jpeg:https://christchurchcos.com/wp-content/uploads/2025/04/holycommunion.jpg
END:VEVENT
BEGIN:VEVENT
DTSTART;TZID=America/Denver:20250916T090000
DTEND;TZID=America/Denver:20250916T120000
DTSTAMP:20260419T200855
CREATED:20250907T202713Z
LAST-MODIFIED:20250907T202713Z
UID:10001705-1758013200-1758024000@christchurchcos.com
SUMMARY:Church Work Day
DESCRIPTION:Help us beautify and improve our church space. Skilled and unskilled tasks available.
URL:https://christchurchcos.com/calendar/church-work-day-2/
LOCATION:Christ Church Anglican\, Christ Church Anglican\, 625 1st Street\, Colorado Springs\, CO\, 80907\, United States
END:VEVENT
BEGIN:VEVENT
DTSTART;TZID=America/Denver:20250917T123000
DTEND;TZID=America/Denver:20250917T140000
DTSTAMP:20260419T200855
CREATED:20250523T020111Z
LAST-MODIFIED:20250523T023953Z
UID:10000548-1758112200-1758117600@christchurchcos.com
SUMMARY:Wednesday Evensong and Study
DESCRIPTION:Join us for Evensong and a study of Glittering Vices by Rebecca DeYoung.
URL:https://christchurchcos.com/calendar/evensong-and-study/2025-09-17/
LOCATION:Christ Church Anglican\, Christ Church Anglican\, 625 1st Street\, Colorado Springs\, CO\, 80907\, United States
ATTACH;FMTTYPE=image/jpeg:https://christchurchcos.com/wp-content/uploads/2025/04/DSC_06331.jpeg
END:VEVENT
END:VCALENDAR