BEGIN:VCALENDAR
VERSION:2.0
PRODID:-//Christ Church Anglican - ECPv6.15.20//NONSGML v1.0//EN
CALSCALE:GREGORIAN
METHOD:PUBLISH
X-ORIGINAL-URL:https://christchurchcos.com
X-WR-CALDESC:Events for Christ Church Anglican
REFRESH-INTERVAL;VALUE=DURATION:PT1H
X-Robots-Tag:noindex
X-PUBLISHED-TTL:PT1H
BEGIN:VTIMEZONE
TZID:America/Denver
BEGIN:DAYLIGHT
TZOFFSETFROM:-0700
TZOFFSETTO:-0600
TZNAME:MDT
DTSTART:20240310T090000
END:DAYLIGHT
BEGIN:STANDARD
TZOFFSETFROM:-0600
TZOFFSETTO:-0700
TZNAME:MST
DTSTART:20241103T080000
END:STANDARD
BEGIN:DAYLIGHT
TZOFFSETFROM:-0700
TZOFFSETTO:-0600
TZNAME:MDT
DTSTART:20250309T090000
END:DAYLIGHT
BEGIN:STANDARD
TZOFFSETFROM:-0600
TZOFFSETTO:-0700
TZNAME:MST
DTSTART:20251102T080000
END:STANDARD
BEGIN:DAYLIGHT
TZOFFSETFROM:-0700
TZOFFSETTO:-0600
TZNAME:MDT
DTSTART:20260308T090000
END:DAYLIGHT
BEGIN:STANDARD
TZOFFSETFROM:-0600
TZOFFSETTO:-0700
TZNAME:MST
DTSTART:20261101T080000
END:STANDARD
END:VTIMEZONE
BEGIN:VEVENT
DTSTART;TZID=America/Denver:20250921T090000
DTEND;TZID=America/Denver:20250921T100000
DTSTAMP:20260419T181307
CREATED:20250424T012336Z
LAST-MODIFIED:20251031T185427Z
UID:10006624-1758445200-1758448800@christchurchcos.com
SUMMARY:Holy Communion
DESCRIPTION:Morning Worship with a Eucharist Service is held every Sunday morning at 10:00 AM with sermon and hymns. Children are welcome in the service\, but there are also quiet spaces available for those who may need extra attention.
URL:https://christchurchcos.com/calendar/holy-communion/2025-09-21/
LOCATION:Christ Church Anglican\, Christ Church Anglican\, 625 1st Street\, Colorado Springs\, CO\, 80907\, United States
ATTACH;FMTTYPE=image/jpeg:https://christchurchcos.com/wp-content/uploads/2025/04/holycommunion.jpg
END:VEVENT
BEGIN:VEVENT
DTSTART;TZID=America/Denver:20250921T173000
DTEND;TZID=America/Denver:20250921T210000
DTSTAMP:20260419T181307
CREATED:20250424T013607Z
LAST-MODIFIED:20251031T175147Z
UID:10003005-1758475800-1758488400@christchurchcos.com
SUMMARY:Potluck and Evensong
DESCRIPTION:A form of Evensong is held at 5:30 PM on Sunday evenings at one of our members’ homes. Please contact vicar@christchurchcos.com for more information. The service itself begins at 6:00 PM following the 5:30 PM fellowship meal. We close the evening with a time of discussion and study. All interested are welcome. This is a great opportunity to get to know Anglicanism and ask questions for those not ready to join with us in a worship service – or just join us for the fellowship.
URL:https://christchurchcos.com/calendar/potluck-and-evensong/2025-09-21/
LOCATION:CO
ATTACH;FMTTYPE=image/jpeg:https://christchurchcos.com/wp-content/uploads/2025/04/evansong.jpg
END:VEVENT
BEGIN:VEVENT
DTSTART;TZID=America/Denver:20250924T130000
DTEND;TZID=America/Denver:20250924T150000
DTSTAMP:20260419T181307
CREATED:20250818T214732Z
LAST-MODIFIED:20250818T214732Z
UID:10000993-1758718800-1758726000@christchurchcos.com
SUMMARY:Ladies' Study and Fellowship
DESCRIPTION:Join us for a no-prep study of Through New Eyes by James B. Jordan\, snacks\, and fellowship. \nContact vicar@christchurchcos.com for location and directions.
URL:https://christchurchcos.com/calendar/ladies-study-and-fellowship-2/2025-09-24/
LOCATION:CO
ATTACH;FMTTYPE=image/jpeg:https://christchurchcos.com/wp-content/uploads/2025/05/pexels-emily-252615-768125-scaled.jpg
END:VEVENT
BEGIN:VEVENT
DTSTART;TZID=America/Denver:20250927T013000
DTEND;TZID=America/Denver:20250927T030000
DTSTAMP:20260419T181307
CREATED:20250818T214559Z
LAST-MODIFIED:20250818T214559Z
UID:10000803-1758936600-1758942000@christchurchcos.com
SUMMARY:Men's Fellowship and Study
DESCRIPTION:Join us as we read through and discuss Letters to a Diminished Church by Dorothy L. Sayers at Boonzaaijer’s Dutch Bakery.
URL:https://christchurchcos.com/calendar/mens-fellowship-and-study-2/2025-09-27/
LOCATION:Boonzaaijer’s Dutch Bakery\, Boonzaaijer's Dutch Bakery\, 610 East Fillmore Street\, Colorado Springs\, CO\, 80907\, United States
ATTACH;FMTTYPE=image/jpeg:https://christchurchcos.com/wp-content/uploads/2025/05/pexels-caio-46274-scaled.jpg
END:VEVENT
END:VCALENDAR