BEGIN:VCALENDAR
VERSION:2.0
PRODID:-//Christ Church Anglican - ECPv6.15.20//NONSGML v1.0//EN
CALSCALE:GREGORIAN
METHOD:PUBLISH
X-WR-CALNAME:Christ Church Anglican
X-ORIGINAL-URL:https://christchurchcos.com
X-WR-CALDESC:Events for Christ Church Anglican
REFRESH-INTERVAL;VALUE=DURATION:PT1H
X-Robots-Tag:noindex
X-PUBLISHED-TTL:PT1H
BEGIN:VTIMEZONE
TZID:America/Denver
BEGIN:DAYLIGHT
TZOFFSETFROM:-0700
TZOFFSETTO:-0600
TZNAME:MDT
DTSTART:20240310T090000
END:DAYLIGHT
BEGIN:STANDARD
TZOFFSETFROM:-0600
TZOFFSETTO:-0700
TZNAME:MST
DTSTART:20241103T080000
END:STANDARD
BEGIN:DAYLIGHT
TZOFFSETFROM:-0700
TZOFFSETTO:-0600
TZNAME:MDT
DTSTART:20250309T090000
END:DAYLIGHT
BEGIN:STANDARD
TZOFFSETFROM:-0600
TZOFFSETTO:-0700
TZNAME:MST
DTSTART:20251102T080000
END:STANDARD
BEGIN:DAYLIGHT
TZOFFSETFROM:-0700
TZOFFSETTO:-0600
TZNAME:MDT
DTSTART:20260308T090000
END:DAYLIGHT
BEGIN:STANDARD
TZOFFSETFROM:-0600
TZOFFSETTO:-0700
TZNAME:MST
DTSTART:20261101T080000
END:STANDARD
END:VTIMEZONE
BEGIN:VEVENT
DTSTART;TZID=America/Denver:20251026T090000
DTEND;TZID=America/Denver:20251026T100000
DTSTAMP:20260419T162900
CREATED:20250424T012336Z
LAST-MODIFIED:20251031T185427Z
UID:10006629-1761469200-1761472800@christchurchcos.com
SUMMARY:Holy Communion
DESCRIPTION:Morning Worship with a Eucharist Service is held every Sunday morning at 10:00 AM with sermon and hymns. Children are welcome in the service\, but there are also quiet spaces available for those who may need extra attention.
URL:https://christchurchcos.com/calendar/holy-communion/2025-10-26/
LOCATION:Christ Church Anglican\, Christ Church Anglican\, 625 1st Street\, Colorado Springs\, CO\, 80907\, United States
ATTACH;FMTTYPE=image/jpeg:https://christchurchcos.com/wp-content/uploads/2025/04/holycommunion.jpg
END:VEVENT
BEGIN:VEVENT
DTSTART;TZID=America/Denver:20251026T113000
DTEND;TZID=America/Denver:20251026T123000
DTSTAMP:20260419T162900
CREATED:20251006T154423Z
LAST-MODIFIED:20251103T000643Z
UID:10004627-1761478200-1761481800@christchurchcos.com
SUMMARY:Catechesis
DESCRIPTION:Adult and children’s classes will follow coffee hour.
URL:https://christchurchcos.com/calendar/catechesis-15/2025-10-26/
LOCATION:Christ Church Anglican\, Christ Church Anglican\, 625 1st Street\, Colorado Springs\, CO\, 80907\, United States
ATTACH;FMTTYPE=image/jpeg:https://christchurchcos.com/wp-content/uploads/2025/04/001.jpg
END:VEVENT
BEGIN:VEVENT
DTSTART;TZID=America/Denver:20251026T173000
DTEND;TZID=America/Denver:20251026T210000
DTSTAMP:20260419T162900
CREATED:20250424T013607Z
LAST-MODIFIED:20251031T175147Z
UID:10003010-1761499800-1761512400@christchurchcos.com
SUMMARY:Potluck and Evensong
DESCRIPTION:A form of Evensong is held at 5:30 PM on Sunday evenings at one of our members’ homes. Please contact vicar@christchurchcos.com for more information. The service itself begins at 6:00 PM following the 5:30 PM fellowship meal. We close the evening with a time of discussion and study. All interested are welcome. This is a great opportunity to get to know Anglicanism and ask questions for those not ready to join with us in a worship service – or just join us for the fellowship.
URL:https://christchurchcos.com/calendar/potluck-and-evensong/2025-10-26/
LOCATION:CO
ATTACH;FMTTYPE=image/jpeg:https://christchurchcos.com/wp-content/uploads/2025/04/evansong.jpg
END:VEVENT
BEGIN:VEVENT
DTSTART;TZID=America/Denver:20251027T190000
DTEND;TZID=America/Denver:20251027T210000
DTSTAMP:20260419T162900
CREATED:20251001T153215Z
LAST-MODIFIED:20251103T001132Z
UID:10004221-1761591600-1761598800@christchurchcos.com
SUMMARY:Ladies' Study and Fellowship
DESCRIPTION:Join us for a no-prep study of Through New Eyes by James B. Jordan\, snacks\, and fellowship. \nContact vicar@christchurchcos.com for location and directions.
URL:https://christchurchcos.com/calendar/ladies-study-and-fellowship-2-2/2025-10-27/
LOCATION:CO
ATTACH;FMTTYPE=image/jpeg:https://christchurchcos.com/wp-content/uploads/2025/05/pexels-emily-252615-768125-scaled.jpg
END:VEVENT
BEGIN:VEVENT
DTSTART;TZID=America/Denver:20251028T180000
DTEND;TZID=America/Denver:20251028T190000
DTSTAMP:20260419T162900
CREATED:20251001T153648Z
LAST-MODIFIED:20251017T230639Z
UID:10002102-1761674400-1761678000@christchurchcos.com
SUMMARY:Feast of St. Simon and St. Jude
DESCRIPTION:Join us for a Holy Communion service at Holy Cross for the Feast day of Saints Simon and Jude the Apostles.
URL:https://christchurchcos.com/calendar/feast-of-st-simon-and-st-jude/
LOCATION:Holy Cross Anglican Church\, 2703 W. Cucharras St.\, Colorado Springs\, CO\, 80904\, United States
END:VEVENT
BEGIN:VEVENT
DTSTART;TZID=America/Denver:20251029T183000
DTEND;TZID=America/Denver:20251029T200000
DTSTAMP:20260419T162900
CREATED:20251006T154057Z
LAST-MODIFIED:20251031T175649Z
UID:10003805-1761762600-1761768000@christchurchcos.com
SUMMARY:Wednesday Evensong/Children's Choir Practice
DESCRIPTION:
URL:https://christchurchcos.com/calendar/evensong-and-study-2-2/2025-10-29/
LOCATION:Christ Church Anglican\, Christ Church Anglican\, 625 1st Street\, Colorado Springs\, CO\, 80907\, United States
ATTACH;FMTTYPE=image/jpeg:https://christchurchcos.com/wp-content/uploads/2025/04/DSC_06331.jpeg
END:VEVENT
BEGIN:VEVENT
DTSTART;TZID=America/Denver:20251031T173000
DTEND;TZID=America/Denver:20251031T210000
DTSTAMP:20260419T162900
CREATED:20251001T154408Z
LAST-MODIFIED:20251001T154528Z
UID:10002103-1761931800-1761944400@christchurchcos.com
SUMMARY:All Hallow's Eve Celebration and Potluck Supper
DESCRIPTION:Join us for a potluck supper followed by games to celebrate All Hallow’s Eve. Come in any Biblical theme costume or as a saint from throughout the ages to compete in our annual contest. \nContact vicar@christchurchcos.com for location details or meal sign-up options.
URL:https://christchurchcos.com/calendar/all-hallows-eve-celebration-and-potluck-supper/
LOCATION:CO
END:VEVENT
BEGIN:VEVENT
DTSTART;TZID=America/Denver:20251101T180000
DTEND;TZID=America/Denver:20251101T190000
DTSTAMP:20260419T162900
CREATED:20251001T160112Z
LAST-MODIFIED:20251030T185912Z
UID:10002104-1762020000-1762023600@christchurchcos.com
SUMMARY:All Saints' Holy Communion Service
DESCRIPTION:We will celebrate a joint service at Christ Church Anglican for the Feast of All Saints’ Day.
URL:https://christchurchcos.com/calendar/all-saints-holy-communion-service/
LOCATION:Christ Church Anglican\, Christ Church Anglican\, 625 1st Street\, Colorado Springs\, CO\, 80907\, United States
END:VEVENT
END:VCALENDAR