BEGIN:VCALENDAR
VERSION:2.0
PRODID:-//Christ Church Anglican - ECPv6.15.20//NONSGML v1.0//EN
CALSCALE:GREGORIAN
METHOD:PUBLISH
X-ORIGINAL-URL:https://christchurchcos.com
X-WR-CALDESC:Events for Christ Church Anglican
REFRESH-INTERVAL;VALUE=DURATION:PT1H
X-Robots-Tag:noindex
X-PUBLISHED-TTL:PT1H
BEGIN:VTIMEZONE
TZID:America/Denver
BEGIN:DAYLIGHT
TZOFFSETFROM:-0700
TZOFFSETTO:-0600
TZNAME:MDT
DTSTART:20240310T090000
END:DAYLIGHT
BEGIN:STANDARD
TZOFFSETFROM:-0600
TZOFFSETTO:-0700
TZNAME:MST
DTSTART:20241103T080000
END:STANDARD
BEGIN:DAYLIGHT
TZOFFSETFROM:-0700
TZOFFSETTO:-0600
TZNAME:MDT
DTSTART:20250309T090000
END:DAYLIGHT
BEGIN:STANDARD
TZOFFSETFROM:-0600
TZOFFSETTO:-0700
TZNAME:MST
DTSTART:20251102T080000
END:STANDARD
BEGIN:DAYLIGHT
TZOFFSETFROM:-0700
TZOFFSETTO:-0600
TZNAME:MDT
DTSTART:20260308T090000
END:DAYLIGHT
BEGIN:STANDARD
TZOFFSETFROM:-0600
TZOFFSETTO:-0700
TZNAME:MST
DTSTART:20261101T080000
END:STANDARD
END:VTIMEZONE
BEGIN:VEVENT
DTSTART;TZID=America/Denver:20251123T100000
DTEND;TZID=America/Denver:20251123T110000
DTSTAMP:20260419T143306
CREATED:20251031T185629Z
LAST-MODIFIED:20251102T093109Z
UID:10007155-1763892000-1763895600@christchurchcos.com
SUMMARY:Holy Communion
DESCRIPTION:Morning Worship with a Eucharist Service is held every Sunday morning at 10:00 AM with sermon and hymns. Children are welcome in the service\, but there are also quiet spaces available for those who may need extra attention.
URL:https://christchurchcos.com/calendar/holy-communion-4/2025-11-23/
LOCATION:Christ Church Anglican\, Christ Church Anglican\, 625 1st Street\, Colorado Springs\, CO\, 80907\, United States
ATTACH;FMTTYPE=image/jpeg:https://christchurchcos.com/wp-content/uploads/2025/04/holycommunion.jpg
END:VEVENT
BEGIN:VEVENT
DTSTART;TZID=America/Denver:20251123T113000
DTEND;TZID=America/Denver:20251123T123000
DTSTAMP:20260419T143306
CREATED:20251103T000053Z
LAST-MODIFIED:20251103T000053Z
UID:10004631-1763897400-1763901000@christchurchcos.com
SUMMARY:Catechesis
DESCRIPTION:Adult and children’s classes will follow coffee hour. \nAdult forum: Study in Liturgical Theology
URL:https://christchurchcos.com/calendar/catechesis-15-2/2025-11-23/
LOCATION:Christ Church Anglican\, Christ Church Anglican\, 625 1st Street\, Colorado Springs\, CO\, 80907\, United States
ATTACH;FMTTYPE=image/jpeg:https://christchurchcos.com/wp-content/uploads/2025/04/001.jpg
END:VEVENT
BEGIN:VEVENT
DTSTART;TZID=America/Denver:20251123T173000
DTEND;TZID=America/Denver:20251123T210000
DTSTAMP:20260419T143306
CREATED:20251103T000142Z
LAST-MODIFIED:20251103T000142Z
UID:10003014-1763919000-1763931600@christchurchcos.com
SUMMARY:Potluck and Evensong
DESCRIPTION:A form of Evensong is held at 5:30 PM on Sunday evenings at one of our members’ homes. Please contact vicar@christchurchcos.com for more information. The service itself begins at 6:00 PM following the 5:30 PM fellowship meal. We close the evening with a time of discussion and study. All interested are welcome. This is a great opportunity to get to know Anglicanism and ask questions for those not ready to join with us in a worship service – or just join us for the fellowship.
URL:https://christchurchcos.com/calendar/potluck-and-evensong-5/2025-11-23/
LOCATION:CO
ATTACH;FMTTYPE=image/jpeg:https://christchurchcos.com/wp-content/uploads/2025/04/evansong.jpg
END:VEVENT
BEGIN:VEVENT
DTSTART;TZID=America/Denver:20251124T190000
DTEND;TZID=America/Denver:20251124T210000
DTSTAMP:20260419T143306
CREATED:20251103T000757Z
LAST-MODIFIED:20260315T011954Z
UID:10007630-1764010800-1764018000@christchurchcos.com
SUMMARY:Ladies' Study and Fellowship
DESCRIPTION:Join us for a no-prep study of Through New Eyes by James B. Jordan\, snacks\, and fellowship. \nContact vicar@christchurchcos.com for location and directions.
URL:https://christchurchcos.com/calendar/ladies-study-and-fellowship-2-2-2/2025-11-24/
LOCATION:CO
ATTACH;FMTTYPE=image/jpeg:https://christchurchcos.com/wp-content/uploads/2025/05/pexels-emily-252615-768125-scaled.jpg
END:VEVENT
BEGIN:VEVENT
DTSTART;TZID=America/Denver:20251126T183000
DTEND;TZID=America/Denver:20251126T200000
DTSTAMP:20260419T143306
CREATED:20251103T000244Z
LAST-MODIFIED:20260407T135654Z
UID:10007607-1764181800-1764187200@christchurchcos.com
SUMMARY:Wednesday Evensong/Children's Choir Practice
DESCRIPTION:
URL:https://christchurchcos.com/calendar/evensong-and-study-2-2-4/2025-11-26/
LOCATION:Christ Church Anglican\, Christ Church Anglican\, 625 1st Street\, Colorado Springs\, CO\, 80907\, United States
ATTACH;FMTTYPE=image/jpeg:https://christchurchcos.com/wp-content/uploads/2025/04/DSC_06331.jpeg
END:VEVENT
BEGIN:VEVENT
DTSTART;TZID=America/Denver:20251126T183000
DTEND;TZID=America/Denver:20251126T200000
DTSTAMP:20260419T143306
CREATED:20251119T144032Z
LAST-MODIFIED:20251119T144033Z
UID:10003809-1764181800-1764187200@christchurchcos.com
SUMMARY:Wednesday Evensong
DESCRIPTION:
URL:https://christchurchcos.com/calendar/evensong-and-study-2-2-4-2/
LOCATION:Christ Church Anglican\, Christ Church Anglican\, 625 1st Street\, Colorado Springs\, CO\, 80907\, United States
ATTACH;FMTTYPE=image/jpeg:https://christchurchcos.com/wp-content/uploads/2025/04/DSC_06331.jpeg
END:VEVENT
END:VCALENDAR