BEGIN:VCALENDAR
VERSION:2.0
PRODID:-//Christ Church Anglican - ECPv6.15.20//NONSGML v1.0//EN
CALSCALE:GREGORIAN
METHOD:PUBLISH
X-ORIGINAL-URL:https://christchurchcos.com
X-WR-CALDESC:Events for Christ Church Anglican
REFRESH-INTERVAL;VALUE=DURATION:PT1H
X-Robots-Tag:noindex
X-PUBLISHED-TTL:PT1H
BEGIN:VTIMEZONE
TZID:America/Denver
BEGIN:DAYLIGHT
TZOFFSETFROM:-0700
TZOFFSETTO:-0600
TZNAME:MDT
DTSTART:20240310T090000
END:DAYLIGHT
BEGIN:STANDARD
TZOFFSETFROM:-0600
TZOFFSETTO:-0700
TZNAME:MST
DTSTART:20241103T080000
END:STANDARD
BEGIN:DAYLIGHT
TZOFFSETFROM:-0700
TZOFFSETTO:-0600
TZNAME:MDT
DTSTART:20250309T090000
END:DAYLIGHT
BEGIN:STANDARD
TZOFFSETFROM:-0600
TZOFFSETTO:-0700
TZNAME:MST
DTSTART:20251102T080000
END:STANDARD
BEGIN:DAYLIGHT
TZOFFSETFROM:-0700
TZOFFSETTO:-0600
TZNAME:MDT
DTSTART:20260308T090000
END:DAYLIGHT
BEGIN:STANDARD
TZOFFSETFROM:-0600
TZOFFSETTO:-0700
TZNAME:MST
DTSTART:20261101T080000
END:STANDARD
END:VTIMEZONE
BEGIN:VEVENT
DTSTART;TZID=America/Denver:20251221T100000
DTEND;TZID=America/Denver:20251221T110000
DTSTAMP:20260421T025520
CREATED:20251031T185629Z
LAST-MODIFIED:20251102T093109Z
UID:10007159-1766311200-1766314800@christchurchcos.com
SUMMARY:Holy Communion
DESCRIPTION:Morning Worship with a Eucharist Service is held every Sunday morning at 10:00 AM with sermon and hymns. Children are welcome in the service\, but there are also quiet spaces available for those who may need extra attention.
URL:https://christchurchcos.com/calendar/holy-communion-4/2025-12-21/
LOCATION:Christ Church Anglican\, Christ Church Anglican\, 625 1st Street\, Colorado Springs\, CO\, 80907\, United States
ATTACH;FMTTYPE=image/jpeg:https://christchurchcos.com/wp-content/uploads/2025/04/holycommunion.jpg
END:VEVENT
BEGIN:VEVENT
DTSTART;TZID=America/Denver:20251221T113000
DTEND;TZID=America/Denver:20251221T123000
DTSTAMP:20260421T025520
CREATED:20251103T001928Z
LAST-MODIFIED:20251103T001929Z
UID:10004635-1766316600-1766320200@christchurchcos.com
SUMMARY:Catechesis
DESCRIPTION:Adult and children’s classes will follow coffee hour.
URL:https://christchurchcos.com/calendar/catechesis-15-2-2/2025-12-21/
LOCATION:Christ Church Anglican\, Christ Church Anglican\, 625 1st Street\, Colorado Springs\, CO\, 80907\, United States
ATTACH;FMTTYPE=image/jpeg:https://christchurchcos.com/wp-content/uploads/2025/04/001.jpg
END:VEVENT
BEGIN:VEVENT
DTSTART;TZID=America/Denver:20251221T173000
DTEND;TZID=America/Denver:20251221T200000
DTSTAMP:20260421T025520
CREATED:20251022T214205Z
LAST-MODIFIED:20251220T215840Z
UID:10001421-1766338200-1766347200@christchurchcos.com
SUMMARY:Christmas Pageant
DESCRIPTION:Join us for a children’s Christmas pageant complete with Scripture lessons and hymn. Please contact vicar@christchurchcos.com for more information and location. Potluck supper to follow. \nChildren please arrive 30 minutes early for final costume fitting.
URL:https://christchurchcos.com/calendar/potluck-and-evensong-4/
LOCATION:CO
ATTACH;FMTTYPE=image/jpeg:https://christchurchcos.com/wp-content/uploads/2025/04/evansong.jpg
END:VEVENT
BEGIN:VEVENT
DTSTART;TZID=America/Denver:20251221T173000
DTEND;TZID=America/Denver:20251221T210000
DTSTAMP:20260421T025520
CREATED:20251103T000142Z
LAST-MODIFIED:20251103T000142Z
UID:10007690-1766338200-1766350800@christchurchcos.com
SUMMARY:Potluck and Evensong
DESCRIPTION:A form of Evensong is held at 5:30 PM on Sunday evenings at one of our members’ homes. Please contact vicar@christchurchcos.com for more information. The service itself begins at 6:00 PM following the 5:30 PM fellowship meal. We close the evening with a time of discussion and study. All interested are welcome. This is a great opportunity to get to know Anglicanism and ask questions for those not ready to join with us in a worship service – or just join us for the fellowship.
URL:https://christchurchcos.com/calendar/potluck-and-evensong-5/2025-12-21/
LOCATION:CO
ATTACH;FMTTYPE=image/jpeg:https://christchurchcos.com/wp-content/uploads/2025/04/evansong.jpg
END:VEVENT
BEGIN:VEVENT
DTSTART;TZID=America/Denver:20251222T180000
DTEND;TZID=America/Denver:20251222T190000
DTSTAMP:20260421T025520
CREATED:20251102T095026Z
LAST-MODIFIED:20251102T160423Z
UID:10007415-1766426400-1766430000@christchurchcos.com
SUMMARY:Feast of St. Thomas
DESCRIPTION:Join us for a Holy Communion service to celebrate the Feast of St. Thomas the Apostle.
URL:https://christchurchcos.com/calendar/feast-of-st-thomas/
LOCATION:Christ Church Anglican\, Christ Church Anglican\, 625 1st Street\, Colorado Springs\, CO\, 80907\, United States
END:VEVENT
BEGIN:VEVENT
DTSTART;TZID=America/Denver:20251222T190000
DTEND;TZID=America/Denver:20251222T210000
DTSTAMP:20260421T025520
CREATED:20251103T000757Z
LAST-MODIFIED:20260315T011954Z
UID:10007632-1766430000-1766437200@christchurchcos.com
SUMMARY:Ladies' Study and Fellowship
DESCRIPTION:Join us for a no-prep study of Through New Eyes by James B. Jordan\, snacks\, and fellowship. \nContact vicar@christchurchcos.com for location and directions.
URL:https://christchurchcos.com/calendar/ladies-study-and-fellowship-2-2-2/2025-12-22/
LOCATION:CO
ATTACH;FMTTYPE=image/jpeg:https://christchurchcos.com/wp-content/uploads/2025/05/pexels-emily-252615-768125-scaled.jpg
END:VEVENT
BEGIN:VEVENT
DTSTART;TZID=America/Denver:20251224T140000
DTEND;TZID=America/Denver:20251224T153000
DTSTAMP:20260421T025520
CREATED:20251220T212505Z
LAST-MODIFIED:20251220T213005Z
UID:10007425-1766584800-1766590200@christchurchcos.com
SUMMARY:Greening of the Church
DESCRIPTION:All are welcome to come and assist in decorating the church in preparation for Christmastide.
URL:https://christchurchcos.com/calendar/greening-of-the-church/
LOCATION:Christ Church Anglican\, Christ Church Anglican\, 625 1st Street\, Colorado Springs\, CO\, 80907\, United States
ATTACH;FMTTYPE=image/jpeg:https://christchurchcos.com/wp-content/uploads/2025/12/pine-branches-1-120473424-scaled.jpg
END:VEVENT
BEGIN:VEVENT
DTSTART;TZID=America/Denver:20251224T183000
DTEND;TZID=America/Denver:20251224T200000
DTSTAMP:20260421T025520
CREATED:20251022T213716Z
LAST-MODIFIED:20251102T093945Z
UID:10001719-1766601000-1766606400@christchurchcos.com
SUMMARY:Christmas Eve Holy Communion Service
DESCRIPTION:
URL:https://christchurchcos.com/calendar/evensong-and-study-2-2-2/
LOCATION:Christ Church Anglican\, Christ Church Anglican\, 625 1st Street\, Colorado Springs\, CO\, 80907\, United States
ATTACH;FMTTYPE=image/jpeg:https://christchurchcos.com/wp-content/uploads/2025/04/DSC_06331.jpeg
END:VEVENT
BEGIN:VEVENT
DTSTART;TZID=America/Denver:20251224T183000
DTEND;TZID=America/Denver:20251224T200000
DTSTAMP:20260421T025520
CREATED:20251103T000244Z
LAST-MODIFIED:20260407T135654Z
UID:10007608-1766601000-1766606400@christchurchcos.com
SUMMARY:Wednesday Evensong/Children's Choir Practice
DESCRIPTION:
URL:https://christchurchcos.com/calendar/evensong-and-study-2-2-4/2025-12-24/
LOCATION:Christ Church Anglican\, Christ Church Anglican\, 625 1st Street\, Colorado Springs\, CO\, 80907\, United States
ATTACH;FMTTYPE=image/jpeg:https://christchurchcos.com/wp-content/uploads/2025/04/DSC_06331.jpeg
END:VEVENT
BEGIN:VEVENT
DTSTART;TZID=America/Denver:20251225T100000
DTEND;TZID=America/Denver:20251225T110000
DTSTAMP:20260421T025520
CREATED:20251022T214353Z
LAST-MODIFIED:20251103T002443Z
UID:10002117-1766656800-1766660400@christchurchcos.com
SUMMARY:Christmas Day Communion Service
DESCRIPTION:
URL:https://christchurchcos.com/calendar/christmas-day-communion-service/
LOCATION:Christ Church Anglican\, Christ Church Anglican\, 625 1st Street\, Colorado Springs\, CO\, 80907\, United States
END:VEVENT
BEGIN:VEVENT
DTSTART;TZID=America/Denver:20251226T100000
DTEND;TZID=America/Denver:20251226T140000
DTSTAMP:20260421T025520
CREATED:20251220T213915Z
LAST-MODIFIED:20251220T214002Z
UID:10007426-1766743200-1766757600@christchurchcos.com
SUMMARY:Funeral Service for Simeon Dalbey
DESCRIPTION:Location: Holy Cross Anglican Church \n2703 W Cucharras St. \nColorado Springs\, CO 80904 \nThe service will begin at 10am followed by the burial at Evergreen Cemetery. \nAll are welcome to return to the church after the Graveside service for a reception. \n 
URL:https://christchurchcos.com/calendar/funeral-service-for-simeon-dalbey/
LOCATION:Holy Cross Anglican Church\, 2703 W. Cucharras St.\, Colorado Springs\, CO\, 80904\, United States
ATTACH;FMTTYPE=image/jpeg:https://christchurchcos.com/wp-content/uploads/2025/12/announcement-scaled.jpeg
END:VEVENT
BEGIN:VEVENT
DTSTART;TZID=America/Denver:20251226T180000
DTEND;TZID=America/Denver:20251226T190000
DTSTAMP:20260421T025520
CREATED:20251022T221153Z
LAST-MODIFIED:20251220T214104Z
UID:10002119-1766772000-1766775600@christchurchcos.com
SUMMARY:Feast of St. Stephen
DESCRIPTION:
URL:https://christchurchcos.com/calendar/feast-of-st-stephen/
LOCATION:Christ Church Anglican\, Christ Church Anglican\, 625 1st Street\, Colorado Springs\, CO\, 80907\, United States
END:VEVENT
BEGIN:VEVENT
DTSTART;TZID=America/Denver:20251227T100000
DTEND;TZID=America/Denver:20251227T110000
DTSTAMP:20260421T025520
CREATED:20251022T221403Z
LAST-MODIFIED:20251103T002618Z
UID:10002120-1766829600-1766833200@christchurchcos.com
SUMMARY:Feast of St. John
DESCRIPTION:
URL:https://christchurchcos.com/calendar/feast-of-st-john/
LOCATION:Christ Church Anglican\, Christ Church Anglican\, 625 1st Street\, Colorado Springs\, CO\, 80907\, United States
END:VEVENT
END:VCALENDAR